BEGIN:VCALENDAR
VERSION:2.0
PRODID:-//Niedersächsische Landesforsten - ECPv6.3.5//NONSGML v1.0//EN
CALSCALE:GREGORIAN
METHOD:PUBLISH
X-ORIGINAL-URL:https://www.landesforsten.de
X-WR-CALDESC:Veranstaltungen für Niedersächsische Landesforsten
REFRESH-INTERVAL;VALUE=DURATION:PT1H
X-Robots-Tag:noindex
X-PUBLISHED-TTL:PT1H
BEGIN:VTIMEZONE
TZID:Europe/Berlin
BEGIN:DAYLIGHT
TZOFFSETFROM:+0100
TZOFFSETTO:+0200
TZNAME:CEST
DTSTART:20240331T010000
END:DAYLIGHT
BEGIN:STANDARD
TZOFFSETFROM:+0200
TZOFFSETTO:+0100
TZNAME:CET
DTSTART:20241027T010000
END:STANDARD
END:VTIMEZONE
BEGIN:VEVENT
DTSTART;TZID=Europe/Berlin:20240720T180000
DTEND;TZID=Europe/Berlin:20240720T234500
DTSTAMP:20260422T151704
CREATED:20240704T095627Z
LAST-MODIFIED:20240704T095627Z
UID:82869-1721498400-1721519100@www.landesforsten.de
SUMMARY:Sommerkino Open-Air am Jagdschloss Springe
DESCRIPTION:Wir heißen Sie herzlich Willkommen zum diesjährigen Sommerkino Open Air auf der Wiese hinter dem Jagdschloss Springe. \nEgal ob mit eigenen Decken und Stühlen oder auf unseren Sitzeinrichtungen\, diesen Abend werden Sie so schnell nicht vergessen.\nNeben spannenden Filmen für jeden Geschmack soll auch das leibliche Wohl nicht zu kurz kommen. \nIm Biergarten von Herrn Koch wird es wildspezialitäten vom Grill\, Popcorn und Getränke geben. Weiterhin sorgt der Stand der 405er Brauerei sowie der Cockteilstand von NV Events für die flüssige Versorgung.\nNicezeit rundet den Kinobesuch mit leckerem Eis ab! \nUnser Programm für Sie: \nFreitag\, 19.07.2024\n18:00 Uhr Pippi Langstrumpf\n20:45 Uhr Wir kaufen einen Zoo \nSamstag\, 20.07.2024\n18:00 Uhr Rio 2\n20:45 Uhr The Revenant (FSK 16) \nEinlass 30 Minuten vor Filmstart\nTicket Vvk im Forstamtsbüro sowie im Wisentgehege oder dirket an der Abendkasse. \nBei schlechtem Wetter findet die Veranstaltung im Marstall statt. \nWir freuen uns über Ihren Besuch! \n  \n 
URL:https://www.landesforsten.de/event/sommerkino-open-air-am-jagdschloss-springe/2024-07-20/
LOCATION:Jagdschloss Springe\, Jagdschloss\, Springe\, Niedersachsen\, 31832
CATEGORIES:Jagdschloss Springe
ATTACH;FMTTYPE=image/jpeg:https://www.landesforsten.de/wp-content/uploads/2024/06/2024-06-sommerkino-plakat-a3-neu_page-0001.jpg
END:VEVENT
BEGIN:VEVENT
DTSTART;TZID=Europe/Berlin:20240719T180000
DTEND;TZID=Europe/Berlin:20240719T234500
DTSTAMP:20260422T151704
CREATED:20240704T095627Z
LAST-MODIFIED:20240708T071921Z
UID:82385-1721412000-1721432700@www.landesforsten.de
SUMMARY:Sommerkino Open-Air am Jagdschloss Springe
DESCRIPTION:Wir heißen Sie herzlich Willkommen zum diesjährigen Sommerkino Open Air auf der Wiese hinter dem Jagdschloss Springe. \nEgal ob mit eigenen Decken und Stühlen oder auf unseren Sitzeinrichtungen\, diesen Abend werden Sie so schnell nicht vergessen.\nNeben spannenden Filmen für jeden Geschmack soll auch das leibliche Wohl nicht zu kurz kommen. \nIm Biergarten von Herrn Koch wird es wildspezialitäten vom Grill\, Popcorn und Getränke geben. Weiterhin sorgt der Stand der 405er Brauerei sowie der Cockteilstand von NV Events für die flüssige Versorgung.\nNicezeit rundet den Kinobesuch mit leckerem Eis ab! \nUnser Programm für Sie: \nFreitag\, 19.07.2024\n18:00 Uhr Pippi Langstrumpf\n20:45 Uhr Wir kaufen einen Zoo \nSamstag\, 20.07.2024\n18:00 Uhr Rio 2\n20:45 Uhr The Revenant (FSK 16) \nEinlass 30 Minuten vor Filmstart\nTicket Vvk im Forstamtsbüro sowie im Wisentgehege oder dirket an der Abendkasse. \nBei schlechtem Wetter findet die Veranstaltung im Marstall statt. \nWir freuen uns über Ihren Besuch! \n  \n 
URL:https://www.landesforsten.de/event/sommerkino-open-air-am-jagdschloss-springe/2024-07-19/
LOCATION:Jagdschloss Springe\, Jagdschloss\, Springe\, Niedersachsen\, 31832
CATEGORIES:Jagdschloss Springe
ATTACH;FMTTYPE=image/jpeg:https://www.landesforsten.de/wp-content/uploads/2024/06/2024-06-sommerkino-plakat-a3-neu_page-0001.jpg
END:VEVENT
END:VCALENDAR