BEGIN:VCALENDAR
VERSION:2.0
PRODID:-//Niedersächsische Landesforsten - ECPv6.3.5//NONSGML v1.0//EN
CALSCALE:GREGORIAN
METHOD:PUBLISH
X-ORIGINAL-URL:https://www.landesforsten.de
X-WR-CALDESC:Veranstaltungen für Niedersächsische Landesforsten
REFRESH-INTERVAL;VALUE=DURATION:PT1H
X-Robots-Tag:noindex
X-PUBLISHED-TTL:PT1H
BEGIN:VTIMEZONE
TZID:Europe/Berlin
BEGIN:DAYLIGHT
TZOFFSETFROM:+0100
TZOFFSETTO:+0200
TZNAME:CEST
DTSTART:20260329T010000
END:DAYLIGHT
BEGIN:STANDARD
TZOFFSETFROM:+0200
TZOFFSETTO:+0100
TZNAME:CET
DTSTART:20261025T010000
END:STANDARD
END:VTIMEZONE
BEGIN:VEVENT
DTSTART;TZID=Europe/Berlin:20260131T100000
DTEND;TZID=Europe/Berlin:20260131T150000
DTSTAMP:20260419T160252
CREATED:20260102T093620Z
LAST-MODIFIED:20260102T115609Z
UID:105986-1769853600-1769871600@www.landesforsten.de
SUMMARY:Waldforum-Juniortag: „Was machen die Bäume im Winter?“
DESCRIPTION: für Kinder von 6 bis 10 Jahren \nHalten Bäume Winterschlaf? Können sie erfrieren? Warum findet der Holzeinschlag im Winter statt? Welches Holz eignet sich wofür? Wie kann man die Bäume auch im Winter unterscheiden? Was ist bei Nadelbäumen anders als bei Laubbäumen? Wissenswertes\, Spannendes und Kreatives erwartet euch. \nZum Abschluss gibt es Baumgeschichten und Stockbrot am Lagerfeuer. \nBitte warme\, wetterfeste Kleidung und Rucksackverpflegung mitbringen! \nKosten: 25\,00 € pro Kind \nLeitung: Christiane Neugebauer und Helga Gries (zertifizierte Waldpädagoginnen) \nTreffpunkt: Waldforum Riddagshausen\, Ebertallee 44\, Braunschweig (Buslinie 423 bis Grüner Jäger) \nVeranstalter: Förderverein Waldforum Riddagshausen e.V.\, Tel.: 0531 / 707 48-33\, unterstützt vom Walderlebniszentrum Waldforum Riddagshausen der Niedersächsischen Landesforsten\, der Bürgerstiftung Braunschweig\, der Maue-Stiftung\, der Öffentlichen Versicherung Braunschweig und der Stiftung Zukunft Wald \nAnmeldung online: https://waldforum.events/
URL:https://www.landesforsten.de/event/waldforum-juniortag-was-machen-die-baeume-im-winter/
LOCATION:Waldforum Riddagshausen\, Ebertallee 44\, Braunschweig\, 38104\, Deutschland
CATEGORIES:Waldforum Riddagshausen
ATTACH;FMTTYPE=image/jpeg:https://www.landesforsten.de/wp-content/uploads/2024/12/dsc_0007-2.jpg
ORGANIZER;CN="F%C3%B6rderverein Waldforum Riddagshausen e.V.":MAILTO:waldforum@gmx.de
END:VEVENT
END:VCALENDAR