BEGIN:VCALENDAR
VERSION:2.0
PRODID:-//Niedersächsische Landesforsten - ECPv6.3.5//NONSGML v1.0//EN
CALSCALE:GREGORIAN
METHOD:PUBLISH
X-ORIGINAL-URL:https://www.landesforsten.de
X-WR-CALDESC:Veranstaltungen für Niedersächsische Landesforsten
REFRESH-INTERVAL;VALUE=DURATION:PT1H
X-Robots-Tag:noindex
X-PUBLISHED-TTL:PT1H
BEGIN:VTIMEZONE
TZID:Europe/Berlin
BEGIN:DAYLIGHT
TZOFFSETFROM:+0100
TZOFFSETTO:+0200
TZNAME:CEST
DTSTART:20260329T010000
END:DAYLIGHT
BEGIN:STANDARD
TZOFFSETFROM:+0200
TZOFFSETTO:+0100
TZNAME:CET
DTSTART:20261025T010000
END:STANDARD
END:VTIMEZONE
BEGIN:VEVENT
DTSTART;TZID=Europe/Berlin:20261206T110000
DTEND;TZID=Europe/Berlin:20261206T160000
DTSTAMP:20260422T141355
CREATED:20260310T154119Z
LAST-MODIFIED:20260310T154119Z
UID:107409-1796554800-1796572800@www.landesforsten.de
SUMMARY:Tierische Winterwelt - Familiensonntag
DESCRIPTION:<< „Winterstrategien der Tiere“ – Erlebnisführung um 11.00\,13.00 und 15.00 Uhr mit Martin Polland (Waldpädagoge) \n<< „Biber\, Fischotter\, Nutria“ – Erlebnisführung um 12.00 und 14.00 Uhr mit Helga Gries (Waldpädagogin) \n<< „Schneelandschaft und ein Hermelin im Winterfell“ – Kinder-Kreativaktion mit Wittmute Malik (Kunstpädagogin) \n<< Frische Waffeln\, Braunschweig-Biokaffee\, Wildwürstchen\, hausgebackener Kuchen \nOrt: Waldforum Riddagshausen\, Ebertallee 44\, 38104 Braunschweig (Buslinie 423 „Grüner Jäger“) \nVeranstalter: Niedersächsische Landesforsten/Walderlebniszentrum Waldforum Riddagshausen \nKeine Anmeldung\, Eintritt frei \nBitte möglichst mit öffentlichen Verkehrsmitteln oder Fahrrad kommen. Die Sonntagsöffnungen sind eine Initiative von den Nds. Landesforsten / Waldforum Riddagshausen und dem Förderverein Waldforum Riddagshausen e.V.\, unterstützt durch die Öffentliche Versicherung Braunschweig. \n06. Dezember 2026 Tierische Winterwelt – Familiensonntag (pdf)
URL:https://www.landesforsten.de/event/tierische-winterwelt-familiensonntag/
LOCATION:Waldforum Riddagshausen\, Ebertallee 44\, Braunschweig\, 38104\, Deutschland
CATEGORIES:Waldforum Riddagshausen
ATTACH;FMTTYPE=image/jpeg:https://www.landesforsten.de/wp-content/uploads/2026/03/x_wittmute-malik_km_451i26020213550.jpg
ORGANIZER;CN="Walderlebniszentrum Waldforum Riddagshausen":MAILTO:gabriela.huelse@nfa-wolfenb.niedersachsen.de
END:VEVENT
END:VCALENDAR