BEGIN:VCALENDAR
VERSION:2.0
PRODID:-//Niedersächsische Landesforsten - ECPv6.3.5//NONSGML v1.0//EN
CALSCALE:GREGORIAN
METHOD:PUBLISH
X-ORIGINAL-URL:https://www.landesforsten.de
X-WR-CALDESC:Veranstaltungen für Niedersächsische Landesforsten
REFRESH-INTERVAL;VALUE=DURATION:PT1H
X-Robots-Tag:noindex
X-PUBLISHED-TTL:PT1H
BEGIN:VTIMEZONE
TZID:Europe/Berlin
BEGIN:DAYLIGHT
TZOFFSETFROM:+0100
TZOFFSETTO:+0200
TZNAME:CEST
DTSTART:20270328T010000
END:DAYLIGHT
BEGIN:STANDARD
TZOFFSETFROM:+0200
TZOFFSETTO:+0100
TZNAME:CET
DTSTART:20271031T010000
END:STANDARD
END:VTIMEZONE
BEGIN:VEVENT
DTSTART;TZID=Europe/Berlin:20270108T100000
DTEND;TZID=Europe/Berlin:20270108T150000
DTSTAMP:20260420T192832
CREATED:20260123T132851Z
LAST-MODIFIED:20260123T132852Z
UID:106557-1799402400-1799420400@www.landesforsten.de
SUMMARY:Waldforum-Juniortag: „Tiere im Winter“
DESCRIPTION: für Kinder von 6 bis 10 Jahren \nWie überleben die Tiere den Winter? Manche Vögel fliegen in den Süden\, Igel machen Winterschlaf\, Eichhörnchen halten Winterruhe\, Kröten graben sich tief in den Boden ein. Andere Tierarten bleiben aktiv. In einer spielerischen Entdeckungsreise lernen wir die verschiedenen Überlebungsstrategien der Tiere gegen die Kälte kennen. Zum Abschluss machen wir ein Lagerfeuer und backen Stockbrot. \nBitte an waldfeste Kleidung und eigene Verpflegung denken. \nKosten: 25\,00 € pro Kind \nLeitung: Stefanie Bucher-Pekrun und Helga Gries (zertifizierte Waldpädagoginnen) \nTreffpunkt: Waldforum Riddagshausen\, Ebertallee 44\, Braunschweig (Buslinie 423 bis Grüner Jäger) \nVeranstalter: Förderverein Waldforum Riddagshausen e.V.\, Tel.: 0531 / 707 48-33\, unterstützt vom Walderlebniszentrum Waldforum Riddagshausen der Niedersächsischen Landesforsten; der Bürgerstiftung Braunschweig\, der Maue-Stiftung\, der Öffentlichen Versicherung Braunschweig und der Stiftung Zukunft Wald \nAnmeldung online: https://waldforum.events/
URL:https://www.landesforsten.de/event/waldforum-juniortag-tiere-im-winter/
LOCATION:Waldforum Riddagshausen\, Ebertallee 44\, Braunschweig\, 38104\, Deutschland
CATEGORIES:Waldforum Riddagshausen
ATTACH;FMTTYPE=image/jpeg:https://www.landesforsten.de/wp-content/uploads/2022/11/5_1.jpg
ORGANIZER;CN="F%C3%B6rderverein Waldforum Riddagshausen e.V.":MAILTO:waldforum@gmx.de
END:VEVENT
END:VCALENDAR