BEGIN:VCALENDAR
VERSION:2.0
PRODID:-//Niedersächsische Landesforsten - ECPv6.3.5//NONSGML v1.0//EN
CALSCALE:GREGORIAN
METHOD:PUBLISH
X-ORIGINAL-URL:https://www.landesforsten.de
X-WR-CALDESC:Veranstaltungen für Niedersächsische Landesforsten
REFRESH-INTERVAL;VALUE=DURATION:PT1H
X-Robots-Tag:noindex
X-PUBLISHED-TTL:PT1H
BEGIN:VTIMEZONE
TZID:Europe/Berlin
BEGIN:DAYLIGHT
TZOFFSETFROM:+0100
TZOFFSETTO:+0200
TZNAME:CEST
DTSTART:20260329T010000
END:DAYLIGHT
BEGIN:STANDARD
TZOFFSETFROM:+0200
TZOFFSETTO:+0100
TZNAME:CET
DTSTART:20261025T010000
END:STANDARD
END:VTIMEZONE
BEGIN:VEVENT
DTSTART;VALUE=DATE:20260419
DTEND;VALUE=DATE:20260420
DTSTAMP:20260421T141801
CREATED:20260204T125534Z
LAST-MODIFIED:20260204T125534Z
UID:106931-1776556800-1776643199@www.landesforsten.de
SUMMARY:Erlebnisvortrag Falknerei
DESCRIPTION:Wecher Schnabel frisst was\, wer brütet wie und noch viele weitere spannende Themen\nInteressantes rund ums Thema Vögel gibt es an folgenden Sonntagen nach dem Flugprogramm\, jeweils mittags und nachmittags\, zu lauschen. Die Falkner halten spannende Vorträge zu verschiedenen Themen rund um die Vogelwelt. Hier gehts es nicht nur um die Greifvögel. Je nach Wetter und Inhalt finden die Vorträge in der Falknerei oder in der Schutzhütter hinter der Falknerei statt und dauern ungefähr eine halbe Stunde. \nWie das normale Flugprogramm sind diese Veranstaltungen für jede Altersklasse geeignet und werden je nach Teilnehmern entsprechend altersgerecht moderiert. \nNeben dem normalen Eintritt in den Wildpark fallen hierfür keine zusätzlichen Kosten an. \nTermine: 19.04.\, 17.05.\, 21.06.\, 19.07.\, 21.08.\, 20.09.\, 18.10. \nWeitere Informationen zu den Themen finden Sie auf der Seite der Falknerei https://www.falknerei-wildpark-neuhaus.de/
URL:https://www.landesforsten.de/event/erlebnisvortrag-falknerei/2026-04-19/
LOCATION:Wildpark Neuhaus\, Wildpark 1\, Holzminden\, Niedersachsen\, 37603\, Deutschland
CATEGORIES:Forstamt Neuhaus,Wildpark Neuhaus,WildparkHaus
ATTACH;FMTTYPE=image/jpeg:https://www.landesforsten.de/wp-content/uploads/2020/03/dscn2899.jpg
ORGANIZER;CN="Falknerei Wildpark Neuhaus":MAILTO:falknerei-wildpark-neuhaus@menne-ks.de
END:VEVENT
BEGIN:VEVENT
DTSTART;TZID=Europe/Berlin:20260321T140000
DTEND;TZID=Europe/Berlin:20260321T153000
DTSTAMP:20260421T141801
CREATED:20260204T134534Z
LAST-MODIFIED:20260204T134535Z
UID:106945-1774101600-1774107000@www.landesforsten.de
SUMMARY:Führung zum Tag des Waldes
DESCRIPTION:Der 21. März ist internationaler Tag des Waldes\nEnde der 70er Jahre wurde dieser Tag von der Welternährungsorganisation FAO zum Schutz der Wälder ausgerufen. \nDer Wald erfüllt viele verschiedene Funktionen\, die im Bundeswaldgesetz als Nutz-\, Schutz- und Erholungsfunktion aufgeführt sind. \nAuf diese Funktionen und vor allem auf den Wald als Lebensraum für die Tiere gehen wir bei unseren Führung ein. \nEine Tour durch den Wildpark\, bei der nicht nur die Tiere in den Gehegen im Vordergrund stehen\, sondern die Vielfalt drumherum. \nDie Führungen starten um 10 Uhr und um 14 Uhr. Treffpunkt ist bei den Ameisen und Bienen. \nDie Teilnehmerzahl ist begrenzt\, eine vorherige Anmeldung ist erforderlich unter  +49 (0) 5536 – 960 – 9980 \noder per Mail an wildpark-neuhaus@nfa-neuhaus.niedersachsen.de. \nFür die Führung fallen zusätzlich zum regulären Eintritt 5€ pro Person an.
URL:https://www.landesforsten.de/event/fuehrung-zum-tag-des-waldes-2/
LOCATION:Wildpark Neuhaus\, Wildpark 1\, Holzminden\, Niedersachsen\, 37603\, Deutschland
CATEGORIES:Forstamt Neuhaus,Wildpark Neuhaus,WildparkHaus
ATTACH;FMTTYPE=image/jpeg:https://www.landesforsten.de/wp-content/uploads/2018/06/naturpark110525_nie_0003.jpg
ORGANIZER;CN="Wildpark Neuhaus":MAILTO:wildpark-neuhaus@nfa-neuhaus.niedersachsen.de
END:VEVENT
BEGIN:VEVENT
DTSTART;VALUE=DATE:20260321
DTEND;VALUE=DATE:20260322
DTSTAMP:20260421T141801
CREATED:20260204T133941Z
LAST-MODIFIED:20260224T143133Z
UID:106942-1774051200-1774137599@www.landesforsten.de
SUMMARY:Saisonstart der Falknerei
DESCRIPTION:Faszinierende Flugkünste im Wildpark Neuhaus\nBesucher können ab diesem Tag wieder täglich\, außer montags\, um 11:30 Uhr und 15:00 Uhr die faszinierenden Flugvorführungen mit Eulen\, Falken und anderen Greifvögeln erleben. \nFalknerin Monique Menne präsentiert in den informativen\, halbstündigen Programmen ihre gefiederten Partner hautnah. Uhu\, Harris Hawk\, Schleiereule und Wanderfalke demonstrieren ihre beeindruckenden Flugkünste\, während die Falknerin detaillierte Einblicke in ihre Lebensweise und ökologische Bedeutung gibt. Ein besonderer Fokus liegt dabei auf dem Greifvogelschutz und dem Gefährdungsstatus verschiedener Arten. \nDie Flugvorführungen sind im Eintrittspreis des Wildparks enthalten und versprechen ein faszinierendes Erlebnis für Besucher jeden Alters. \nJeden Monat hält sie zusätzlich nach dem Flugprogramm einen für alle Altersgruppen spannenden Erlebnisvortrag. \nTermine\, Titel und Information zum Inhalt unter unter www.falknerei-wildpark-neuhaus.de
URL:https://www.landesforsten.de/event/saisonstart-der-falknerei/
LOCATION:Wildpark Neuhaus\, Wildpark 1\, Holzminden\, Niedersachsen\, 37603\, Deutschland
CATEGORIES:Forstamt Neuhaus,Wildpark Neuhaus,WildparkHaus
ATTACH;FMTTYPE=image/jpeg:https://www.landesforsten.de/wp-content/uploads/2025/03/uhu-im-flug_dsc_5257_1-dup-scaled.jpg
ORGANIZER;CN="Falknerei Wildpark Neuhaus":MAILTO:falknerei-wildpark-neuhaus@menne-ks.de
END:VEVENT
END:VCALENDAR