BEGIN:VCALENDAR
VERSION:2.0
PRODID:-//Niedersächsische Landesforsten - ECPv6.3.5//NONSGML v1.0//EN
CALSCALE:GREGORIAN
METHOD:PUBLISH
X-ORIGINAL-URL:https://www.landesforsten.de
X-WR-CALDESC:Veranstaltungen für Niedersächsische Landesforsten
REFRESH-INTERVAL;VALUE=DURATION:PT1H
X-Robots-Tag:noindex
X-PUBLISHED-TTL:PT1H
BEGIN:VTIMEZONE
TZID:Europe/Berlin
BEGIN:DAYLIGHT
TZOFFSETFROM:+0100
TZOFFSETTO:+0200
TZNAME:CEST
DTSTART:20260329T010000
END:DAYLIGHT
BEGIN:STANDARD
TZOFFSETFROM:+0200
TZOFFSETTO:+0100
TZNAME:CET
DTSTART:20261025T010000
END:STANDARD
END:VTIMEZONE
BEGIN:VEVENT
DTSTART;TZID=Europe/Berlin:20260405T140000
DTEND;TZID=Europe/Berlin:20260405T170000
DTSTAMP:20260422T042123
CREATED:20260211T174515Z
LAST-MODIFIED:20260211T174515Z
UID:107120-1775397600-1775408400@www.landesforsten.de
SUMMARY:Auf den Spuren des Osterhasen - Ein hasenfantastischer Familiennachmittag
DESCRIPTION:Ostersonntag mit der Familie in den Wald\nHabt ihr euch schon einmal gefragt\, wo der Osterhase wohnt und wie er sich im Wald versteckt? Gemeinsam begeben wir uns auf eine spannende Spurensuche\, hüpfen wie echte Hasen\, bauen ein Osterhasenhaus und entdecken\, welche Geheimnisse die Natur rund um Ostern bereithält und vieles mehr. \nSpielerisch\, kreativ und neugierig erleben wir den Frühling im Wald – natürlich darf eine kleine Ostereiersuche dabei nicht fehlen! Kommt mit und entdeckt die Welt des Osterhasen und feiert einen fröhlichen\, bunten Familiennachmittag im Wald. \nZielgruppe: Kinder von 4-9 Jahren mit ihren Eltern\, pro Familie 15 Euro \n  \nAnmeldung erforderlich unter: wpz.lueneburger-heide@nlf.niedersachsen.de oder 05198-987120
URL:https://www.landesforsten.de/event/auf-den-spuren-des-osterhasen-ein-hasenfantastischer-familiennachmittag/
LOCATION:Walderlebnis Ehrhorn\, Ehrhorn 1\, Schneverdingen\, Niedersachsen\, 29640\, Deutschland
CATEGORIES:NLF-Landesweit,Walderlebnis Ehrhorn
ATTACH;FMTTYPE=image/jpeg:https://www.landesforsten.de/wp-content/uploads/2024/03/wee_ostern-e1770831891931.jpg
END:VEVENT
END:VCALENDAR