BEGIN:VCALENDAR
VERSION:2.0
PRODID:-//Niedersächsische Landesforsten - ECPv6.3.5//NONSGML v1.0//EN
CALSCALE:GREGORIAN
METHOD:PUBLISH
X-ORIGINAL-URL:https://www.landesforsten.de
X-WR-CALDESC:Veranstaltungen für Niedersächsische Landesforsten
REFRESH-INTERVAL;VALUE=DURATION:PT1H
X-Robots-Tag:noindex
X-PUBLISHED-TTL:PT1H
BEGIN:VTIMEZONE
TZID:Europe/Berlin
BEGIN:DAYLIGHT
TZOFFSETFROM:+0100
TZOFFSETTO:+0200
TZNAME:CEST
DTSTART:20260329T010000
END:DAYLIGHT
BEGIN:STANDARD
TZOFFSETFROM:+0200
TZOFFSETTO:+0100
TZNAME:CET
DTSTART:20261025T010000
END:STANDARD
END:VTIMEZONE
BEGIN:VEVENT
DTSTART;TZID=Europe/Berlin:20260627T100000
DTEND;TZID=Europe/Berlin:20260627T130000
DTSTAMP:20260420T213319
CREATED:20260420T085334Z
LAST-MODIFIED:20260420T090502Z
UID:107992-1782554400-1782565200@www.landesforsten.de
SUMMARY:Schnitzen für Kinder
DESCRIPTION:Hast du Lust\, mit einem Schnitzmesser kleine Kunstwerke aus Holz herzustellen? \nAn der Lagerfeuerstelle schnitzen wir gemeinsam und erschaffen etwas ganz Eigenes – mit Spaß\, Kreativität und viel Natur um uns herum. \nAußerdem lernst du noch Wissenswertes über Messer\, Material und Holz. \n  \nZielgruppe: Kinder von 8-12 Jahren\, bis 10 Kinder \nDas Programm findet im Rahmen der „Woche der Natur“ der Niedersächsischen Bingo-Umweltstiftung statt und ist dank der Förderung kostenfrei. \n  \nAnmeldung erforderlich unter: wpz.lueneburger-heide@nlf.niedersachsen.de oder 05198-987120
URL:https://www.landesforsten.de/event/schnitzen-fuer-kinder-2/
LOCATION:Walderlebnis Ehrhorn\, Ehrhorn 1\, Schneverdingen\, Niedersachsen\, 29640\, Deutschland
CATEGORIES:NLF-Landesweit,Walderlebnis Ehrhorn
ATTACH;FMTTYPE=image/jpeg:https://www.landesforsten.de/wp-content/uploads/2026/04/schnitzen-1-e1776675089365.jpg
ORGANIZER;CN="Walderlebnis Ehrhorn":MAILTO:wpz.lueneburger-heide@nlf.niedersachsen.de
END:VEVENT
END:VCALENDAR