BEGIN:VCALENDAR
VERSION:2.0
PRODID:-//Niedersächsische Landesforsten - ECPv6.3.5//NONSGML v1.0//EN
CALSCALE:GREGORIAN
METHOD:PUBLISH
X-ORIGINAL-URL:https://www.landesforsten.de
X-WR-CALDESC:Veranstaltungen für Niedersächsische Landesforsten
REFRESH-INTERVAL;VALUE=DURATION:PT1H
X-Robots-Tag:noindex
X-PUBLISHED-TTL:PT1H
BEGIN:VTIMEZONE
TZID:Europe/Berlin
BEGIN:DAYLIGHT
TZOFFSETFROM:+0100
TZOFFSETTO:+0200
TZNAME:CEST
DTSTART:20260329T010000
END:DAYLIGHT
BEGIN:STANDARD
TZOFFSETFROM:+0200
TZOFFSETTO:+0100
TZNAME:CET
DTSTART:20261025T010000
END:STANDARD
END:VTIMEZONE
BEGIN:VEVENT
DTSTART;TZID=Europe/Berlin:20260315T090000
DTEND;TZID=Europe/Berlin:20260315T123000
DTSTAMP:20260421T162333
CREATED:20260129T113115Z
LAST-MODIFIED:20260130T134459Z
UID:106638-1773565200-1773577800@www.landesforsten.de
SUMMARY:"Geh deinen Weg. Aber geh!"
DESCRIPTION:Wohin führt mich mein Weg\, wenn ich ihn unter meinen Füßen wachsen lasse? Auf geebnete Straßen oder mitten durchs Dickicht? Was begegnet mir unterwegs\, und wo will ich Wurzeln schlagen? \nBitte mitbringen: wettertaugliche Kleidung und festes Schuhwerk; ggf. Mücken-\, Zecken- und Sonnenschutz sowie Schreibzeug. \nKosten: Beiträge nach Selbsteinschätzung der finanziellen Möglichkeiten 40\,00 € – 55\,00 € \nLeitung: Anne-Kristin Konsek \nTreffpunkt: Waldhütte Eickhorst zwischen Braunschweig-Wenden\, Vordorf und Eickhorst (700m Fußweg ab Waldparkplatz an der K58) \nVeranstalterin: Konsek Coaching + Training\, www.konsek-coaching.de \nAnmeldung per Email: mail@konsek-coaching.de \n 
URL:https://www.landesforsten.de/event/lebensmuster/
LOCATION:Waldhütte Eickhorst\, Eickhorster Horst\, zwischen Vordorf und Eickhorst\, Landkreis Gifhorn\, Deutschland
CATEGORIES:Waldforum Riddagshausen
ATTACH;FMTTYPE=image/jpeg:https://www.landesforsten.de/wp-content/uploads/2026/01/schnecke-a.k.konsek.jpeg
ORGANIZER;CN="Anne-Kristin Konsek":MAILTO:mail@konsek-coaching.de
GEO:52.3625696;10.5163442
X-APPLE-STRUCTURED-LOCATION;VALUE=URI;X-ADDRESS=Waldhütte Eickhorst Eickhorster Horst zwischen Vordorf und Eickhorst Landkreis Gifhorn Deutschland;X-APPLE-RADIUS=500;X-TITLE=Eickhorster Horst:geo:10.5163442,52.3625696
END:VEVENT
BEGIN:VEVENT
DTSTART;TZID=Europe/Berlin:20260328T100000
DTEND;TZID=Europe/Berlin:20260328T150000
DTSTAMP:20260421T162333
CREATED:20260129T113449Z
LAST-MODIFIED:20260129T113450Z
UID:106640-1774692000-1774710000@www.landesforsten.de
SUMMARY:Happy Life- Wald\, Werte\, Visionen
DESCRIPTION:Der Wald ist ein kraftvoller Raum für Klarheit\, Ruhe und echte Begegnung mit sich selbst. In der Veranstaltung „Happy Life – Wald\, Werte\, Visionen“ verbinden sich achtsame Naturerfahrung\, persönliche Reflexion und gezielte Impulse zur Persönlichkeitsentwicklung zu einer ganzheitlichen Auszeit vom Alltag. \nDurch Waldachtsamkeit – bewusstes\, langsames Gehen\, Wahrnehmungs- und Atemübungen – kommen Körper und Geist zur Ruhe. Der Wald wirkt dabei als Spiegel und Ressource: Er unterstützt dich dabei\, deine inneren Stimmen wieder wahrzunehmen und neue Perspektiven entstehen zu lassen. \nIm Mittelpunkt stehen die Fragen: Was ist mir wirklich wichtig? Welche Werte tragen mein Leben? Welche Vision möchte ich in Zukunft leben? Sanfte Reflexionsübungen\, angeleitete Coaching-Impulse und stille Naturmomente schaffen Raum\, um eigene Werte zu erkennen\, Klarheit über persönliche Ziele zu gewinnen und die eigene Lebensvision weiterzuentwickeln – ohne Leistungsdruck\, dafür mit Tiefe und Achtsamkeit. \nKosten: Investition in ein zufriedenes Leben: 99\,00 € \nOrt: Waldforum Riddagshausen\, Ebertallee 44\, 38104 Braunschweig (Bus 423 „Grüner Jäger“) \nLeitung und Veranstalterin: Jasmin Frommhold Gesundheitspsychologin (B.A.)\, Hochschulzertifizierte Gesundheitscoachin & Hochschulzertifizierte Waldachtsamkeitstrainerin \nAnmeldung unter: Happy Life- Wald\, Werte\, Visionen <https://harz-happiness.de/events/happy-life-wald-werte-visionen/> \nwww.harz-happiness.de \n 
URL:https://www.landesforsten.de/event/happy-life-wald-werte-visionen-2/
LOCATION:Waldforum Riddagshausen\, Ebertallee 44\, Braunschweig\, 38104\, Deutschland
CATEGORIES:Waldforum Riddagshausen
ATTACH;FMTTYPE=image/jpeg:https://www.landesforsten.de/wp-content/uploads/2022/12/25_2.jpg
END:VEVENT
BEGIN:VEVENT
DTSTART;TZID=Europe/Berlin:20260412T150000
DTEND;TZID=Europe/Berlin:20260412T170000
DTSTAMP:20260421T162333
CREATED:20260129T115216Z
LAST-MODIFIED:20260129T115216Z
UID:106643-1776006000-1776013200@www.landesforsten.de
SUMMARY:Kräuterspaziergang Frühling 1
DESCRIPTION:Wald- und Wiesenkräuter entdecken\, erkennen & nutzen. Diese Kräuterführung ist besonders für Einsteiger geeignet: Die Natur erwacht und die Zahl der Kräuter ist noch überschaubar. Jede Pflanze wird deshalb unter verschiedenen Gesichtspunkten vorgestellt – Essbarkeit\, Gesundheit\, Geschichte(n) und kosmetische Anwendungen. \nKosten: 10\,00 € \nTreffpunkt: Waldforum Riddagshausen\, Ebertallee 44\, Braunschweig (Buslinie 423 „Grüner Jäger“) \nVeranstalterin: Gisela Stöckmann www.naturpaedagogik-bs.de \nAnmeldung nicht erforderlich\, bitte rechtzeitig am Treffpunkt einfinden! \n 
URL:https://www.landesforsten.de/event/kraeuterspaziergang-fruehling-1/
LOCATION:Waldforum Riddagshausen\, Ebertallee 44\, Braunschweig\, 38104\, Deutschland
CATEGORIES:Waldforum Riddagshausen
ATTACH;FMTTYPE=image/jpeg:https://www.landesforsten.de/wp-content/uploads/2025/02/kraeuterwanderung-3-24.jpg
ORGANIZER;CN="Gisela St%C3%B6ckmann":MAILTO:info@naturpaedagogik-bs.de
END:VEVENT
BEGIN:VEVENT
DTSTART;TZID=Europe/Berlin:20260509T150000
DTEND;TZID=Europe/Berlin:20260509T170000
DTSTAMP:20260421T162333
CREATED:20260129T115624Z
LAST-MODIFIED:20260129T115625Z
UID:106647-1778338800-1778346000@www.landesforsten.de
SUMMARY:Kräuterspaziergang Frühling 2
DESCRIPTION:Wald- und Wiesenkräuter entdecken\, erkennen & nutzen. Je nach Wetterlage werden wir nun schon eine ganze Reihe wild wachsender Kräuter entdecken. Der Spaziergang eignet sich gut als Ergänzung zum Frühlingsspaziergang 1: Die dort vorgestellten Pflanzen werden wiederholt und durch weitere ergänzt. Ein besonderer Schwerpunkt sind Kräuter\, die leicht verwechselt werden können. \nKosten: 10\,00 € \nTreffpunkt: Waldforum Riddagshausen\, Ebertallee 44\, Braunschweig (Buslinie 423 „Grüner Jäger“) \nVeranstalterin: Gisela Stöckmann www.naturpaedagogik-bs.de \nAnmeldung nicht erforderlich\, bitte rechtzeitig am Treffpunkt einfinden!
URL:https://www.landesforsten.de/event/kraeuterspaziergang-fruehling-2/
LOCATION:Waldforum Riddagshausen\, Ebertallee 44\, Braunschweig\, 38104\, Deutschland
CATEGORIES:Waldforum Riddagshausen
ATTACH;FMTTYPE=image/jpeg:https://www.landesforsten.de/wp-content/uploads/2025/02/kraeuterwanderung-3-24.jpg
ORGANIZER;CN="Gisela St%C3%B6ckmann":MAILTO:info@naturpaedagogik-bs.de
END:VEVENT
BEGIN:VEVENT
DTSTART;TZID=Europe/Berlin:20260801T090000
DTEND;TZID=Europe/Berlin:20260801T123000
DTSTAMP:20260421T162333
CREATED:20260130T134903Z
LAST-MODIFIED:20260130T134904Z
UID:106684-1785574800-1785587400@www.landesforsten.de
SUMMARY:Lebensmuster
DESCRIPTION:Was erzählen uns die Muster der Natur über Ordnung und kreatives Chaos\, über (Un-)Vollkommenheit und Schönheit? Und welche gewohnten Muster wollen wir brechen\, um mehr Freiheit zu gewinnen? \nBitte mitbringen: wettertaugliche Kleidung und festes Schuhwerk; ggf. Mücken-\, Zecken- und Sonnenschutz sowie Schreibzeug. \nKosten: Beiträge nach Selbsteinschätzung der finanziellen Möglichkeiten 40\,00 € – 55\,00 € \nLeitung: Anne-Kristin Konsek \nTreffpunkt: Waldhütte Eickhorst zwischen Braunschweig-Wenden\, Vordorf und Eickhorst (700m Fußweg ab Waldparkplatz an der K58) \nVeranstalterin: Konsek Coaching + Training\, www.konsek-coaching.de \nAnmeldung per Email: mail@konsek-coaching.de
URL:https://www.landesforsten.de/event/lebensmuster-3/
LOCATION:Waldhütte Eickhorst\, Eickhorster Horst\, zwischen Vordorf und Eickhorst\, Landkreis Gifhorn\, Deutschland
CATEGORIES:Waldforum Riddagshausen
ATTACH;FMTTYPE=image/jpeg:https://www.landesforsten.de/wp-content/uploads/2026/01/waldcoaching-2-a.k.konsek.jpg
ORGANIZER;CN="Anne-Kristin Konsek":MAILTO:mail@konsek-coaching.de
GEO:52.3625696;10.5163442
X-APPLE-STRUCTURED-LOCATION;VALUE=URI;X-ADDRESS=Waldhütte Eickhorst Eickhorster Horst zwischen Vordorf und Eickhorst Landkreis Gifhorn Deutschland;X-APPLE-RADIUS=500;X-TITLE=Eickhorster Horst:geo:10.5163442,52.3625696
END:VEVENT
BEGIN:VEVENT
DTSTART;TZID=Europe/Berlin:20260801T150000
DTEND;TZID=Europe/Berlin:20260802T150000
DTSTAMP:20260421T162333
CREATED:20260129T120041Z
LAST-MODIFIED:20260130T135115Z
UID:106651-1785596400-1785682800@www.landesforsten.de
SUMMARY:24-Stunden-Auszeit: Das Leben spüren
DESCRIPTION:24 Stunden unter freiem Himmel sind unsere Zeit zum Ankommen. Mit Blick auf Baumkronen\, Sternenhimmel\, in die Dunkelheit und den Feuerschein; in der Stille und im Gespräch bewegen wir die Frage\, was wir brauchen\, um unsere Lebendigkeit wieder spüren zu können. \nBitte mitbringen: gesonderte Ausrüstungsliste nach Anmeldung \nKosten: Beiträge nach Selbsteinschätzung der finanziellen Möglichkeiten 165\,00 € – 225\,00 € \nLeitung: Anne-Kristin Konsek \nTreffpunkt: Waldhütte Eickhorst zwischen Braunschweig-Wenden\, Vordorf und Eickhorst (700m Fußweg ab Waldparkplatz an der K58) \nVeranstalterin: Konsek Coaching + Training\, www.konsek-coaching.de \nAnmeldung per Email: mail@konsek-coaching.de
URL:https://www.landesforsten.de/event/24-stunden-auszeit-das-leben-spueren/
LOCATION:Waldhütte Eickhorst\, Eickhorster Horst\, zwischen Vordorf und Eickhorst\, Landkreis Gifhorn\, Deutschland
CATEGORIES:Waldforum Riddagshausen
ATTACH;FMTTYPE=image/jpeg:https://www.landesforsten.de/wp-content/uploads/2026/01/vogelnest-im-wald-a.k.konsek.jpeg
ORGANIZER;CN="Anne-Kristin Konsek":MAILTO:mail@konsek-coaching.de
GEO:52.3625696;10.5163442
X-APPLE-STRUCTURED-LOCATION;VALUE=URI;X-ADDRESS=Waldhütte Eickhorst Eickhorster Horst zwischen Vordorf und Eickhorst Landkreis Gifhorn Deutschland;X-APPLE-RADIUS=500;X-TITLE=Eickhorster Horst:geo:10.5163442,52.3625696
END:VEVENT
BEGIN:VEVENT
DTSTART;TZID=Europe/Berlin:20260926T090000
DTEND;TZID=Europe/Berlin:20260926T123000
DTSTAMP:20260421T162333
CREATED:20260129T120418Z
LAST-MODIFIED:20260130T135528Z
UID:106655-1790413200-1790425800@www.landesforsten.de
SUMMARY:Beziehungsweisen
DESCRIPTION:Im Wald umgibt uns ein lebendiges Netzwerk der Beziehungen\, in dem kein Lebewesen für sich allein existieren kann. Wem oder was fühle ich mich verbunden? Welche Beziehungen will ich nähren oder mich nähren lassen? \nBitte mitbringen: wettertaugliche Kleidung und festes Schuhwerk; ggf. Mücken-\, Zecken- und Sonnenschutz sowie Schreibzeug. \nKosten: Beiträge nach Selbsteinschätzung der finanziellen Möglichkeiten 40\,00 € – 55\,00 € \nLeitung: Anne-Kristin Konsek \nTreffpunkt: Waldhütte Eickhorst zwischen Braunschweig-Wenden\, Vordorf und Eickhorst (700m Fußweg ab Waldparkplatz an der K58) \nVeranstalterin: Konsek Coaching + Training\, www.konsek-coaching.de \nAnmeldung per Email: mail@konsek-coaching.de \n 
URL:https://www.landesforsten.de/event/beziehungsweisen/
LOCATION:Waldhütte Eickhorst\, Eickhorster Horst\, zwischen Vordorf und Eickhorst\, Landkreis Gifhorn\, Deutschland
CATEGORIES:Waldforum Riddagshausen
ATTACH;FMTTYPE=image/jpeg:https://www.landesforsten.de/wp-content/uploads/2026/01/waldcoaching-2-a.k.konsek.jpg
ORGANIZER;CN="Anne-Kristin Konsek":MAILTO:mail@konsek-coaching.de
GEO:52.3625696;10.5163442
X-APPLE-STRUCTURED-LOCATION;VALUE=URI;X-ADDRESS=Waldhütte Eickhorst Eickhorster Horst zwischen Vordorf und Eickhorst Landkreis Gifhorn Deutschland;X-APPLE-RADIUS=500;X-TITLE=Eickhorster Horst:geo:10.5163442,52.3625696
END:VEVENT
BEGIN:VEVENT
DTSTART;TZID=Europe/Berlin:20261128T090000
DTEND;TZID=Europe/Berlin:20261128T123000
DTSTAMP:20260421T162333
CREATED:20260129T120831Z
LAST-MODIFIED:20260130T135643Z
UID:106659-1795856400-1795869000@www.landesforsten.de
SUMMARY:Die Kraft des Rückzugs
DESCRIPTION:In Zeiten der Kälte und Dunkelheit folgen alle Lebewesen ihren ganz eigenen Strategien\, um Schutz zu finden. Wir spüren unseren Bedürfnissen nach Ruhe\, Wärme\, Licht und Geborgenheit nach. \nBitte mitbringen: wettertaugliche Kleidung und festes Schuhwerk; ggf. Mücken-\, Zecken- und Sonnenschutz sowie Schreibzeug. \nKosten: Beiträge nach Selbsteinschätzung der finanziellen Möglichkeiten 40\,00 € – 55\,00 € \nLeitung: Anne-Kristin Konsek \nTreffpunkt: Waldhütte Eickhorst zwischen Braunschweig-Wenden\, Vordorf und Eickhorst (700m Fußweg ab Waldparkplatz an der K58) \nVeranstalterin: Konsek Coaching + Training\, www.konsek-coaching.de \nAnmeldung per Email: mail@konsek-coaching.de \n 
URL:https://www.landesforsten.de/event/die-kraft-des-rueckzugs/
LOCATION:Waldhütte Eickhorst\, Eickhorster Horst\, zwischen Vordorf und Eickhorst\, Landkreis Gifhorn\, Deutschland
CATEGORIES:Waldforum Riddagshausen
ATTACH;FMTTYPE=image/jpeg:https://www.landesforsten.de/wp-content/uploads/2026/01/waldcoaching-1a.k.konsek.jpg
ORGANIZER;CN="Anne-Kristin Konsek":MAILTO:mail@konsek-coaching.de
GEO:52.3625696;10.5163442
X-APPLE-STRUCTURED-LOCATION;VALUE=URI;X-ADDRESS=Waldhütte Eickhorst Eickhorster Horst zwischen Vordorf und Eickhorst Landkreis Gifhorn Deutschland;X-APPLE-RADIUS=500;X-TITLE=Eickhorster Horst:geo:10.5163442,52.3625696
END:VEVENT
END:VCALENDAR