BEGIN:VCALENDAR
VERSION:2.0
PRODID:-//Niedersächsische Landesforsten - ECPv6.3.5//NONSGML v1.0//EN
CALSCALE:GREGORIAN
METHOD:PUBLISH
X-ORIGINAL-URL:https://www.landesforsten.de
X-WR-CALDESC:Veranstaltungen für Niedersächsische Landesforsten
REFRESH-INTERVAL;VALUE=DURATION:PT1H
X-Robots-Tag:noindex
X-PUBLISHED-TTL:PT1H
BEGIN:VTIMEZONE
TZID:Europe/Berlin
BEGIN:DAYLIGHT
TZOFFSETFROM:+0100
TZOFFSETTO:+0200
TZNAME:CEST
DTSTART:20260329T010000
END:DAYLIGHT
BEGIN:STANDARD
TZOFFSETFROM:+0200
TZOFFSETTO:+0100
TZNAME:CET
DTSTART:20261025T010000
END:STANDARD
END:VTIMEZONE
BEGIN:VEVENT
DTSTART;TZID=Europe/Berlin:20260329T090000
DTEND;TZID=Europe/Berlin:20260503T190000
DTSTAMP:20260419T135411
CREATED:20260224T143822Z
LAST-MODIFIED:20260326T091657Z
UID:107241-1774774800-1777834800@www.landesforsten.de
SUMMARY:Kunstausstellung von Barbara Dräger im WildparkHaus
DESCRIPTION:Am 29. März startet die Künstlerin mit einer Vernissage ihre Ausstellung. \nVon 9:30 bis 11 Uhr sind alle herzlich eingeladen die Künstlerin persönlich zu treffen. \nMit Ihrer „abstrakten und modernen Tiermalerei“ bereichert Sie unser WildparkHaus für ca. 4 Wochen. \nDie Ausstellung ist kostenlos und zu den Zeiten des Wildparks geöffnet.
URL:https://www.landesforsten.de/event/kunstausstellung-von-barbara-draeger-im-wildparkhaus/
LOCATION:WildparkHaus Neuhaus\, Wildpark 1\, Holzminden\, Niedersachsen\, 37603\, Deutschland
CATEGORIES:Forstamt Neuhaus,Wildpark Neuhaus,WildparkHaus
ATTACH;FMTTYPE=image/jpeg:https://www.landesforsten.de/wp-content/uploads/2026/03/fell-und-feder-austtellung.jpg
END:VEVENT
BEGIN:VEVENT
DTSTART;TZID=Europe/Berlin:20260330T080000
DTEND;TZID=Europe/Berlin:20260402T150000
DTSTAMP:20260419T135411
CREATED:20260102T121248Z
LAST-MODIFIED:20260102T121249Z
UID:106007-1774857600-1775142000@www.landesforsten.de
SUMMARY:Osterferienwoche „Abenteuercamp“
DESCRIPTION:– für Kinder/Jugendliche/r von 9 – 14 Jahren \nAction und Abenteuer in freier Natur – das bietet das Abenteuer-Camp. Mögliche Angebote sind: Survival-Tipps\, Glutbrennen\, Schnitzen\, z.B. Pfeifen\, Wurfhölzer\, Essbestecke\, Schwirrhölzer oder Schwerter\, Speer und Speerschleuder für Speerwurfwettkampf herstellen\, indianische Traumfänger gestalten. Vielleicht habt ihr auch noch eigene Ideen\, was wir im Wald anstellen können? \nBitte mitbringen: alte Klamotten\, feste Schuhe\, eigene Verpflegung! \nKosten: 120\,00 € pro Kind/Jugendliche/r \nLeitung: Uwe Klameth (zertifizierter Waldpädagoge\, DRAUSSEN-Wildnisschule) \nTreffpunkt: Lehre-Essehof\, Ende Forstweg (Wendehammer) \nVeranstalter: Förderverein Waldforum Riddagshausen e.V.\, Tel.: 0531 / 707 48-33\, unterstützt \nvom Walderlebniszentrum Waldforum Riddagshausen der Niedersächsischen Landesforsten; der Bürgerstiftung Braunschweig\, der Maue-Stiftung\, der Öffentlichen Versicherung Braunschweig und der Stiftung Zukunft Wald \nAnmeldung online: https://waldforum.events/ \n 
URL:https://www.landesforsten.de/event/osterferienwoche-abenteuercamp/
LOCATION:Kral Essehof\, Essehof\, Forstweg\, Lehre-Essehof\, Landkreis Helmstedt\, Deutschland
CATEGORIES:Waldforum Riddagshausen
ATTACH;FMTTYPE=image/jpeg:https://www.landesforsten.de/wp-content/uploads/2024/09/wald-fuer-geist-und-gaumen.jpg
ORGANIZER;CN="F%C3%B6rderverein Waldforum Riddagshausen e.V.":MAILTO:waldforum@gmx.de
GEO:52.305878;10.6645979
X-APPLE-STRUCTURED-LOCATION;VALUE=URI;X-ADDRESS=Kral Essehof Essehof Forstweg Lehre-Essehof Landkreis Helmstedt Deutschland;X-APPLE-RADIUS=500;X-TITLE=Essehof\, Forstweg:geo:10.6645979,52.305878
END:VEVENT
BEGIN:VEVENT
DTSTART;TZID=Europe/Berlin:20260330T080000
DTEND;TZID=Europe/Berlin:20260402T150000
DTSTAMP:20260419T135411
CREATED:20260102T121448Z
LAST-MODIFIED:20260116T141636Z
UID:106009-1774857600-1775142000@www.landesforsten.de
SUMMARY:Osterferienwoche „Tierolympiade“
DESCRIPTION:– für Kinder ab 7 Jahren \nTiere\, die in der Natur überleben wollen\, benötigen auch außerordentliche Fähigkeiten. Wölfe sind sehr ausdauernd und können an einem Tag\, wenn nötig\, bis zu 80 km weit laufen. Eichhörnchen klettern schwindelerregend\, Luchse haben eine enorme Sprungkraft\, Wildkatzen schleichen lautlos\, Dachse graben sehr tiefe Höhlen\, Eulen hören die geringsten Geräusche auf große Entfernung. Und wir Menschen? Wie gut sind wir? Das testen das bei unserer Tierolympiade! \nBitte waldfeste Kleidung und eigene Verpflegung mitbringen! \nKosten: 120\,00 € pro Kind \nVeranstalter/in: Gelu Ispas und Heike Meusel (zertifizierte/r Waldpädagoge/in) \nTreffpunkt: Braunschweig-Buchhorst / Waldparkplatz an der Ebertallee (gegenüber Ebertallee 45a) \nVeranstalter: Förderverein Waldforum Riddagshausen e.V.\, Tel.: 0531 / 707 48-33\, unterstützt \nvom Walderlebniszentrum Waldforum Riddagshausen der Niedersächsischen Landesforsten; der Bürgerstiftung Braunschweig\, der Maue-Stiftung\, der Öffentlichen Versicherung Braunschweig und der Stiftung Zukunft Wald \nAnmeldung online: https://waldforum.events/ \n 
URL:https://www.landesforsten.de/event/osterferienwoche-tierolympiade/
LOCATION:Braunschweig – Buchhorst\, gegenüber Ebertallee 45a\, Braunschweig\, 38104\, Deutschland
CATEGORIES:Waldforum Riddagshausen
ATTACH;FMTTYPE=image/jpeg:https://www.landesforsten.de/wp-content/uploads/2022/11/22_1.jpg
ORGANIZER;CN="F%C3%B6rderverein Waldforum Riddagshausen e.V.":MAILTO:waldforum@gmx.de
END:VEVENT
BEGIN:VEVENT
DTSTART;TZID=Europe/Berlin:20260402T140000
DTEND;TZID=Europe/Berlin:20260402T160000
DTSTAMP:20260419T135411
CREATED:20260302T083322Z
LAST-MODIFIED:20260302T083322Z
UID:107295-1775138400-1775145600@www.landesforsten.de
SUMMARY:Ehrhorner Waldabenteuer
DESCRIPTION:Ein Abenteuer-Nachmittag in den Osterferien\nErlebt mit uns spannende Abenteuer entlang der Ehrhorner Dünen und begebt euch auf Spurensuche im Wald. Auch in der Dunkelheit… \n  \nGeeignet für Kinder im Alter von 6-12 Jahren. \n  \nAnmeldung erforderlich: \nSchneverdingen Touristik\, Rathauspassage 18\, 29640 Schneverdingen\, 05193-93-800
URL:https://www.landesforsten.de/event/ehrhorner-waldabenteuer/2026-04-02/
LOCATION:Niedersachsen
CATEGORIES:NLF-Landesweit,Walderlebnis Ehrhorn
ATTACH;FMTTYPE=image/jpeg:https://www.landesforsten.de/wp-content/uploads/2024/07/waldabenteuer-1-e1772440318808.jpg
ORGANIZER;CN="Schneverdingen Touristik":MAILTO:touristik@schneverdingen.de
END:VEVENT
BEGIN:VEVENT
DTSTART;TZID=Europe/Berlin:20260402T150000
DTEND;TZID=Europe/Berlin:20260402T180000
DTSTAMP:20260419T135411
CREATED:20260312T075345Z
LAST-MODIFIED:20260312T075345Z
UID:107450-1775142000-1775152800@www.landesforsten.de
SUMMARY:Ach du Grüne Neune
DESCRIPTION:Grüne Neune-Suppe\, Neunkräutersuppe oder Gründonnerstagssuppe: Die bekannte und leckere Wildkräutersuppe aus dem ersten Grün im Frühjahr besitzt viele Namen und wird traditionell am Gründonnerstag\, kurz vor Ostern gegessen. Was es mit dem Namen auf sich hat\, welche Kräuter in die Suppe kommen und warum sie gerade am Gründonnerstag gegessen wird\, erfahren wir unter fachkundiger Leitung der Wald- und Wildkräuterpädagogin Barbara Dancs. \nAufgrund der begrenzten Teilnehmerzahl ist eine verbindliche Anmeldung und Bezahlung bis zum Vortag der jeweiligen Veranstaltung im HarzWaldHaus notwendig. Fragen beantworten wir gerne unter +49 (0) 5322 – 7843 – 37 oder harzwaldhaus@nlf.niedersachsen.de. \nKosten pro Person: 25 €\nWann: Donnerstag\, 02. April 2026\, 15 bis 18 Uhr
URL:https://www.landesforsten.de/event/ach-du-gruene-neune/
LOCATION:HarzWaldHaus\, Nordhäuser Str. 2e\, 38667 Bad Harzburg\, Deutschland
END:VEVENT
BEGIN:VEVENT
DTSTART;TZID=Europe/Berlin:20260405T110000
DTEND;TZID=Europe/Berlin:20260405T170000
DTSTAMP:20260419T135411
CREATED:20260116T104508Z
LAST-MODIFIED:20260116T104509Z
UID:106285-1775386800-1775408400@www.landesforsten.de
SUMMARY:Familiensonntag "Osternester-Bienenflug"
DESCRIPTION:<< „Bienchen\, ab an die Arbeit!“ Familienerlebnisführung um 11.00\, 13.00 und 15.00 Uhr mit Ina Schäfer (Waldpädagogin) \n<< „Typisch Frühling“ – Familienerlebnisführung um 12.00\, 14.00 und 16.00 Uhr mit Ute Kabbe (Waldpädagogin) \n<< „Zeit\, ein Nest zu bauen“ – Kinder-Kreativaktion mit Wittmute Malik (Kunstpädagogin) \n<< Oster-Tombola \n<< frische Waffeln\, Braunschweig-Biokaffee\, Wildwürstchen\, hausgebackener Kuchen \nOrt: Waldforum Riddagshausen\, Ebertallee 44\, 38104 Braunschweig (Buslinie 423 „Grüner Jäger“) \nVeranstalter: Niedersächsische Landesforsten/Walderlebniszentrum Waldforum Riddagshausen \nKeine Anmeldung\, Eintritt frei \nBitte möglichst mit öffentlichen Verkehrsmitteln oder Fahrrad kommen. Die Sonntagsöffnungen sind eine Initiative von den Nds. Landesforsten / Waldforum Riddagshausen und dem Förderverein Waldforum Riddagshausen e.V.\, unterstützt durch die Öffentliche Versicherung Braunschweig. \nOsternester-Bienenflug Familiensonntag am 05. April 2026 (pdf)
URL:https://www.landesforsten.de/event/familiensonntag-osternester-bienenflug/
LOCATION:Waldforum Riddagshausen\, Ebertallee 44\, Braunschweig\, 38104\, Deutschland
CATEGORIES:Waldforum Riddagshausen
ATTACH;FMTTYPE=image/jpeg:https://www.landesforsten.de/wp-content/uploads/2026/01/km_451i26010511220-scaled.jpg
ORGANIZER;CN="Walderlebniszentrum Waldforum Riddagshausen":MAILTO:gabriela.huelse@nfa-wolfenb.niedersachsen.de
END:VEVENT
BEGIN:VEVENT
DTSTART;TZID=Europe/Berlin:20260405T140000
DTEND;TZID=Europe/Berlin:20260405T170000
DTSTAMP:20260419T135411
CREATED:20260211T174515Z
LAST-MODIFIED:20260211T174515Z
UID:107120-1775397600-1775408400@www.landesforsten.de
SUMMARY:Auf den Spuren des Osterhasen - Ein hasenfantastischer Familiennachmittag
DESCRIPTION:Ostersonntag mit der Familie in den Wald\nHabt ihr euch schon einmal gefragt\, wo der Osterhase wohnt und wie er sich im Wald versteckt? Gemeinsam begeben wir uns auf eine spannende Spurensuche\, hüpfen wie echte Hasen\, bauen ein Osterhasenhaus und entdecken\, welche Geheimnisse die Natur rund um Ostern bereithält und vieles mehr. \nSpielerisch\, kreativ und neugierig erleben wir den Frühling im Wald – natürlich darf eine kleine Ostereiersuche dabei nicht fehlen! Kommt mit und entdeckt die Welt des Osterhasen und feiert einen fröhlichen\, bunten Familiennachmittag im Wald. \nZielgruppe: Kinder von 4-9 Jahren mit ihren Eltern\, pro Familie 15 Euro \n  \nAnmeldung erforderlich unter: wpz.lueneburger-heide@nlf.niedersachsen.de oder 05198-987120
URL:https://www.landesforsten.de/event/auf-den-spuren-des-osterhasen-ein-hasenfantastischer-familiennachmittag/
LOCATION:Walderlebnis Ehrhorn\, Ehrhorn 1\, Schneverdingen\, Niedersachsen\, 29640\, Deutschland
CATEGORIES:NLF-Landesweit,Walderlebnis Ehrhorn
ATTACH;FMTTYPE=image/jpeg:https://www.landesforsten.de/wp-content/uploads/2024/03/wee_ostern-e1770831891931.jpg
END:VEVENT
END:VCALENDAR