BEGIN:VCALENDAR
VERSION:2.0
PRODID:-//Niedersächsische Landesforsten - ECPv6.3.5//NONSGML v1.0//EN
CALSCALE:GREGORIAN
METHOD:PUBLISH
X-ORIGINAL-URL:https://www.landesforsten.de
X-WR-CALDESC:Veranstaltungen für Niedersächsische Landesforsten
REFRESH-INTERVAL;VALUE=DURATION:PT1H
X-Robots-Tag:noindex
X-PUBLISHED-TTL:PT1H
BEGIN:VTIMEZONE
TZID:Europe/Berlin
BEGIN:DAYLIGHT
TZOFFSETFROM:+0100
TZOFFSETTO:+0200
TZNAME:CEST
DTSTART:20260329T010000
END:DAYLIGHT
BEGIN:STANDARD
TZOFFSETFROM:+0200
TZOFFSETTO:+0100
TZNAME:CET
DTSTART:20261025T010000
END:STANDARD
END:VTIMEZONE
BEGIN:VEVENT
DTSTART;TZID=Europe/Berlin:20261010T100000
DTEND;TZID=Europe/Berlin:20261010T150000
DTSTAMP:20260422T203238
CREATED:20260130T142803Z
LAST-MODIFIED:20260130T142803Z
UID:106694-1791626400-1791644400@www.landesforsten.de
SUMMARY:Happy Life – Forest Mind
DESCRIPTION:Resilienz und Ressourcen- Entdeckung der persönlichen Ressourcen und Stärkung der Resilienz  \nKosten: Investition in ein zufriedenes Leben: 99\,00 € \nOrt: Waldforum Riddagshausen\, Ebertallee 44\, 38104 Braunschweig (Bus 423 „Grüner Jäger“) \nLeitung und Veranstalterin: Jasmin Frommhold Gesundheitspsychologin (B.A.)\, Hochschulzertifizierte Gesundheitscoachin & Hochschulzertifizierte Waldachtsamkeitstrainerin \nAnmeldung unter: <https://harz-happiness.de/events/ \nwww.harz-happiness.de \n10. Oktober 2026-happy-life-forest-mind-resilienz-und-ressourcen-staerken (pdf)
URL:https://www.landesforsten.de/event/happy-life-forest-mind-2/
LOCATION:Waldforum Riddagshausen\, Ebertallee 44\, Braunschweig\, 38104\, Deutschland
CATEGORIES:Waldforum Riddagshausen
ATTACH;FMTTYPE=image/jpeg:https://www.landesforsten.de/wp-content/uploads/2022/09/herbstwald_20201107_102021.jpg
END:VEVENT
BEGIN:VEVENT
DTSTART;TZID=Europe/Berlin:20261010T140000
DTEND;TZID=Europe/Berlin:20261010T170000
DTSTAMP:20260422T203238
CREATED:20260123T113527Z
LAST-MODIFIED:20260123T113527Z
UID:106524-1791640800-1791651600@www.landesforsten.de
SUMMARY:Waldforum-Juniortag: „Fabelhaft bis Wissenschaft“
DESCRIPTION:  für Kinder von 5 bis 10 Jahren mit 1 Erwachsenen \nGemeinsam den Wald entdecken: Zwischen alten Fabeln und spannenden Forscheraufträgen erleben Groß und Klein die Natur auf spielerischer Weise. Ein Tag voller Geschichten\, Geheimnisse und gemeinsamer Abenteuer – für alle\, die Zeit im Wald verschenken und staunend mit ihren (Enkel-)Kindern unterwegs sein möchten. \nBitte waldfeste Kleidung und eigene Tagesverpflegung mitbringen \nKosten: 15\,00 € pro Kind incl. 1 Erwachsener \nLeitung: Vivian Klimainsky \nTreffpunkt: BS-Buchhorst\, Waldparkplatz „Höseweg“ (gegenüber Ebertallee 45a) \nVeranstalter: Förderverein Waldforum Riddagshausen e.V.\, Tel.: 0531 / 707 48-33\, unterstützt vom Walderlebniszentrum Waldforum Riddagshausen der Niedersächsischen Landesforsten\, der Bürgerstiftung Braunschweig\, der Maue-Stiftung\, der Öffentlichen Versicherung Braunschweig und der Stiftung Zukunft Wald \nAnmeldung online: https://waldforum.events/
URL:https://www.landesforsten.de/event/waldforum-juniortag-fabelhaft-bis-wissenschaft-4/
LOCATION:Braunschweig – Buchhorst\, gegenüber Ebertallee 45a\, Braunschweig\, 38104\, Deutschland
CATEGORIES:Waldforum Riddagshausen
ATTACH;FMTTYPE=image/jpeg:https://www.landesforsten.de/wp-content/uploads/2024/03/foto-norbert-ley-jungfuchs_49124295597_95b6626230_b.jpg
ORGANIZER;CN="F%C3%B6rderverein Waldforum Riddagshausen e.V.":MAILTO:waldforum@gmx.de
END:VEVENT
BEGIN:VEVENT
DTSTART;TZID=Europe/Berlin:20261011T150000
DTEND;TZID=Europe/Berlin:20261011T170000
DTSTAMP:20260422T203238
CREATED:20260129T120553Z
LAST-MODIFIED:20260129T120554Z
UID:106657-1791730800-1791738000@www.landesforsten.de
SUMMARY:Kräuterspaziergang Herbst
DESCRIPTION:Im Herbst ist die Nutzung der unterirdischen Pflanzenteile von besonderer Bedeutung und  es ist nicht immer leicht\, diese in der vergehenden Pflanzenwelt zu entdecken. Bei dieser Exkursion werden Sie die „Unterwelt“ von Hauhechel\, Baldrian & Co kennen lernen. Außerdem gibt es Tipps und Tricks zur Verarbeitung von Wurzeln und Wildfrüchten zu Leckereien und anderen Nützlichkeiten. \nKosten: 10\,00 € \nTreffpunkt: Waldforum Riddagshausen\, Ebertallee 44\, Braunschweig (Buslinie 423 „Grüner Jäger“) \nVeranstalterin: Gisela Stöckmann www.naturpaedagogik-bs.de \nAnmeldung nicht erforderlich\, bitte rechtzeitig am Treffpunkt einfinden!
URL:https://www.landesforsten.de/event/kraeuterspaziergang-herbst/
LOCATION:Waldforum Riddagshausen\, Ebertallee 44\, Braunschweig\, 38104\, Deutschland
CATEGORIES:Waldforum Riddagshausen
ATTACH;FMTTYPE=image/jpeg:https://www.landesforsten.de/wp-content/uploads/2025/02/kraeuterwanderung-3-24.jpg
ORGANIZER;CN="Gisela St%C3%B6ckmann":MAILTO:info@naturpaedagogik-bs.de
END:VEVENT
END:VCALENDAR