BEGIN:VCALENDAR
VERSION:2.0
PRODID:-//Niedersächsische Landesforsten - ECPv6.3.5//NONSGML v1.0//EN
CALSCALE:GREGORIAN
METHOD:PUBLISH
X-ORIGINAL-URL:https://www.landesforsten.de
X-WR-CALDESC:Veranstaltungen für Niedersächsische Landesforsten
REFRESH-INTERVAL;VALUE=DURATION:PT1H
X-Robots-Tag:noindex
X-PUBLISHED-TTL:PT1H
BEGIN:VTIMEZONE
TZID:Europe/Berlin
BEGIN:DAYLIGHT
TZOFFSETFROM:+0100
TZOFFSETTO:+0200
TZNAME:CEST
DTSTART:20260329T010000
END:DAYLIGHT
BEGIN:STANDARD
TZOFFSETFROM:+0200
TZOFFSETTO:+0100
TZNAME:CET
DTSTART:20261025T010000
END:STANDARD
END:VTIMEZONE
BEGIN:VEVENT
DTSTART;TZID=Europe/Berlin:20261019T080000
DTEND;TZID=Europe/Berlin:20261023T150000
DTSTAMP:20260422T130322
CREATED:20260123T120457Z
LAST-MODIFIED:20260123T120458Z
UID:106536-1792396800-1792767600@www.landesforsten.de
SUMMARY:Herbstferienwoche „Räuberwald“
DESCRIPTION: für Kinder ab 7 Jahren \nDie Räuber sind im Wald – Wolf\, Luchs und auch Wildkatze waren aus unseren Wäldern verschwunden. Aber jetzt kehren sie zurück. Sie müssen hetzen\, schleichen\, lauern und springen\, um Beutetiere zu erlegen. Gibt es Wolf\, Luchs\, Wildkatze oder andere Räuber auch in der Buchhorst? Müssen wir Angst vor ihnen haben? Wir klären das. \nBitte waldfeste Kleidung und eigene Verpflegung mitbringen! \nKosten: 150\,00 € pro Kind \nVeranstalter/in: Gelu Ispas und Heike Meusel (zertifizierte/r Waldpädagoge/in) \nTreffpunkt: Braunschweig-Buchhorst / Waldparkplatz an der Ebertallee (gegenüber Ebertallee 45a) \nVeranstalter: Förderverein Waldforum Riddagshausen e.V.\, Tel.: 0531 / 707 48-33\, unterstützt \nvom Walderlebniszentrum Waldforum Riddagshausen der Niedersächsischen Landesforsten; der Bürgerstiftung Braunschweig\, der Maue-Stiftung\, der Öffentlichen Versicherung Braunschweig und der Stiftung Zukunft Wald \nAnmeldung online: https://waldforum.events/ \n 
URL:https://www.landesforsten.de/event/herbstferienwoche-raeuberwald/
LOCATION:Braunschweig – Buchhorst\, gegenüber Ebertallee 45a\, Braunschweig\, 38104\, Deutschland
CATEGORIES:Waldforum Riddagshausen
ATTACH;FMTTYPE=image/jpeg:https://www.landesforsten.de/wp-content/uploads/2018/07/20.1.foto-thomas-hennig-_th02826..jpg
ORGANIZER;CN="F%C3%B6rderverein Waldforum Riddagshausen e.V.":MAILTO:waldforum@gmx.de
END:VEVENT
BEGIN:VEVENT
DTSTART;TZID=Europe/Berlin:20261019T083000
DTEND;TZID=Europe/Berlin:20261023T153000
DTSTAMP:20260422T130322
CREATED:20260123T114701Z
LAST-MODIFIED:20260123T114702Z
UID:106534-1792398600-1792769400@www.landesforsten.de
SUMMARY:Herbstferienwoche „Fuchs und Feuerstein – Abenteuer im Herbstwald“
DESCRIPTION: für Kinder 7 bis 12 Jahren \nEine Woche voller Naturabenteuer: Wir schnitzen\, basteln Pfeil und Bogen\, bauen Hütten und grillen am Feuer. Auf Streifzügen entdecken wir Tierspuren\, z.B. von Reh\, Wildschwein und Dachs. Wir basteln kreativ mit Naturmaterialien\, bauen Murmelbahn und Tierhöhlen und erlaben den Wald mit allen Sinnen. Natürlich bleibt auch genügend Zeit für freies Spielen. \nBitte waldfeste Kleidung und eigene Verpflegung mitbringen! \nKosten: 150\,00 € pro Kind \nVeranstalter/in: Elke Lüders und Martin Polland (zertifizierte/r Waldpädagoge/in) \nTreffpunkt: Waldforum Riddagshausen\, Ebertallee 44\, Braunschweig (Buslinie 423\, Grüner Jäger) \nVeranstalter: Förderverein Waldforum Riddagshausen e.V.\, Tel.: 0531 / 707 48-33\, unterstützt \nvom Walderlebniszentrum Waldforum Riddagshausen der Niedersächsischen Landesforsten; der Bürgerstiftung Braunschweig\, der Maue-Stiftung\, der Öffentlichen Versicherung Braunschweig und der Stiftung Zukunft Wald \nAnmeldung online: https://waldforum.events/
URL:https://www.landesforsten.de/event/herbstferienwoche-fuchs-und-feuerstein-abenteuer-im-herbstwald/
LOCATION:Waldforum Riddagshausen\, Ebertallee 44\, Braunschweig\, 38104\, Deutschland
CATEGORIES:Waldforum Riddagshausen
ATTACH;FMTTYPE=image/jpeg:https://www.landesforsten.de/wp-content/uploads/2019/12/foto-m.steinmann-p1010195.jpg
ORGANIZER;CN="F%C3%B6rderverein Waldforum Riddagshausen e.V.":MAILTO:waldforum@gmx.de
END:VEVENT
BEGIN:VEVENT
DTSTART;TZID=Europe/Berlin:20261023T093000
DTEND;TZID=Europe/Berlin:20261023T133000
DTSTAMP:20260422T130322
CREATED:20260211T172105Z
LAST-MODIFIED:20260211T172105Z
UID:107107-1792747800-1792762200@www.landesforsten.de
SUMMARY:Waldtag mit Oma und Opa
DESCRIPTION:Was unternehmen wir in den Ferien mit den Enkeln?\nKommt mit auf ein kleines Abenteuer beim Waldtag für Oma\, Opa und Enkel\nGemeinsam gehen wir im Ehrhorner Wald auf Entdeckungsreise.\nWer kennt den Löwen der Lüneburger Heide?\nWer hat seine Kräfte schon mal mit einer Ameise gemessen?\nOmas\, Opas und Enkel werden gemeinsam die Natur mit allen Sinnen erleben\, die kleinen und großen Wunder der Natur kennen und schätzen lernen\, sich in Spiele vertiefen und vor allen Dingen Spaß miteinander haben. Mit einem gemeinsamen Stockbrotbacken schließen wir den Tag ab. \nBitte mitbringen: wettergerechte Kleidung und eine Kleinigkeit zu Essen und Getränke für zwischendurch \n  \nKosten: 50\,- Euro für maximal 4 Personen (mind. 1 Opa/1 Oma + max. 3 Grundschulkinder) \nAnmeldung erforderlich unter: wpz.lueneburger-heide@nlf.niedersachsen.de oder 05198-987120
URL:https://www.landesforsten.de/event/waldtag-mit-oma-und-opa-2/2026-10-23/
LOCATION:Walderlebnis Ehrhorn\, Ehrhorn 1\, Schneverdingen\, Niedersachsen\, 29640\, Deutschland
CATEGORIES:NLF-Landesweit,Walderlebnis Ehrhorn
ATTACH;FMTTYPE=image/jpeg:https://www.landesforsten.de/wp-content/uploads/2024/04/foto-enkeltag_klein.jpg
ORGANIZER;CN="Andrea Dagef%C3%B6rde":MAILTO:andrea@wald-wirkt-wunder.de
END:VEVENT
BEGIN:VEVENT
DTSTART;TZID=Europe/Berlin:20261023T150000
DTEND;TZID=Europe/Berlin:20261023T170000
DTSTAMP:20260422T130322
CREATED:20260211T173818Z
LAST-MODIFIED:20260213T154054Z
UID:107118-1792767600-1792774800@www.landesforsten.de
SUMMARY:Erlebe dein grünes Wunder - Waldtag statt Alltag
DESCRIPTION:Komm mit auf eine Entdeckungsreise in die Natur. Lass dich von der Ruhe und Kraft des Waldes verzaubern – fernab von hektischem Alltag. \nGemeinsam schlendern wir durch den Wald und entdecken die Langsamkeit. Indem wir alle unsere Sinne wecken\, nehmen wir ganz bewusst die kleinen Wunder der Natur wahr. Wir werden still\, spüren den Boden unter den Füßen\, ertasten das Moos in unseren Händen\, schnuppern den Duft der Bäume und lauschen den Geräuschen der Natur. \nMit kleinen angeleiteten Übungen und Bewegungseinheiten erfahren wir den Wald so auf eine neue Weise. \nDadurch können wir neue Kraft tanken und erfrischt in den Alltag zurückkehren. \n  \nAnmeldung erforderlich unter: andrea@wald-wirkt-wunder.de
URL:https://www.landesforsten.de/event/erlebe-dein-gruenes-wunder-waldtag-statt-alltag-3/
LOCATION:Walderlebnis Ehrhorn\, Ehrhorn 1\, Schneverdingen\, Niedersachsen\, 29640\, Deutschland
CATEGORIES:NLF-Landesweit,Walderlebnis Ehrhorn
ATTACH;FMTTYPE=image/jpeg:https://www.landesforsten.de/wp-content/uploads/2024/08/ahornspirale-klein.jpg
ORGANIZER;CN="Andrea Dagef%C3%B6rde":MAILTO:andrea@wald-wirkt-wunder.de
END:VEVENT
BEGIN:VEVENT
DTSTART;TZID=Europe/Berlin:20261024T100000
DTEND;TZID=Europe/Berlin:20261024T140000
DTSTAMP:20260422T130322
CREATED:20260123T120815Z
LAST-MODIFIED:20260123T120816Z
UID:106539-1792836000-1792850400@www.landesforsten.de
SUMMARY:Waldforum-Juniortag: „Feuer und Flamme“
DESCRIPTION: für Kinder von 7 bis 11 Jahren \nWenn es trocken ist\, brennt alles „wie Zunder“. Woher kommt diese Redewendung und stimmt sie tatsächlich? Wir werden erforschen\, was ein Feuer braucht\, um zu brennen\, die Gefahren bei Feuer im Wald einschätzen und ein Feuer ohne Streichhölzer selber entfachen. Das Stockbrot am Lagerfeuer darf natürlich nicht fehlen. \nBitte waldfeste Kleidung und eigene Verpflegung mitbringen! \nKosten: 20\,00 € pro Kind \nLeitung: Heike Meusel und Stefanie Bucher-Pekrun (zertifizierte Waldpädagoginnen) \nTreffpunkt: Braunschweig Buchhorst/ Waldparkplatz Höseweg (gegenüber Ebertallee 45a) \nVeranstalter: Förderverein Waldforum Riddagshausen e.V.\, Tel.: 0531 / 707 48-33\, unterstützt vom Walderlebniszentrum Waldforum Riddagshausen der Niedersächsischen Landesforsten; der Bürgerstiftung Braunschweig\, der Maue-Stiftung\, der Öffentlichen Versicherung Braunschweig und der Stiftung Zukunft Wald \nAnmeldung online: https://waldforum.events/
URL:https://www.landesforsten.de/event/waldforum-juniortag-feuer-und-flamme/
LOCATION:Braunschweig – Buchhorst\, gegenüber Ebertallee 45a\, Braunschweig\, 38104\, Deutschland
CATEGORIES:Waldforum Riddagshausen
ATTACH;FMTTYPE=image/jpeg:https://www.landesforsten.de/wp-content/uploads/2022/05/xfoto-beate-vitt-img_0063.jpg
ORGANIZER;CN="F%C3%B6rderverein Waldforum Riddagshausen e.V.":MAILTO:waldforum@gmx.de
END:VEVENT
BEGIN:VEVENT
DTSTART;TZID=Europe/Berlin:20261025T100000
DTEND;TZID=Europe/Berlin:20261025T150000
DTSTAMP:20260422T130322
CREATED:20260123T121323Z
LAST-MODIFIED:20260123T121324Z
UID:106542-1792922400-1792940400@www.landesforsten.de
SUMMARY:Waldforum-Juniortag: „Energieversteck Wald“
DESCRIPTION: für Kinder von 7 bis 11 Jahren  \nWoher bekommen wir unsere Energie? Was fressen die Tiere? Wovon ernähren sich Pflanzen? Bäume wachsen mit Sonnenenergie. Sie bilden Holz\, Blätter und Früchte. Spielerisch lernen wir die Fotosynthese und den Energiekreislauf in der Natur kennen. Wir sammeln Brennholz und beobachten\, wie es beim Feuermachen die Energie als Wärme wieder freigibt und wir damit unser Stockbrot backen können. \nBitte an waldfeste Kleidung und eigene Verpflegung denken. \nKosten: 25\,00 € pro Kind \nLeitung: Stefanie Bucher-Pekrun und Heike Meusel (zertifizierte Waldpädagoginnen) \nTreffpunkt: Braunschweig Buchhorst/ Waldparkplatz Höseweg (gegenüber Ebertallee 45a) \nVeranstalter: Förderverein Waldforum Riddagshausen e.V.\, Tel.: 0531 / 707 48-33\, unterstützt vom Walderlebniszentrum Waldforum Riddagshausen der Niedersächsischen Landesforsten; der Bürgerstiftung Braunschweig\, der Maue-Stiftung\, der Öffentlichen Versicherung Braunschweig und der Stiftung Zukunft Wald \nAnmeldung online: https://waldforum.events/
URL:https://www.landesforsten.de/event/waldforum-juniortag-energieversteck-wald/
LOCATION:Braunschweig – Buchhorst\, gegenüber Ebertallee 45a\, Braunschweig\, 38104\, Deutschland
CATEGORIES:Waldforum Riddagshausen
ATTACH;FMTTYPE=image/jpeg:https://www.landesforsten.de/wp-content/uploads/2018/08/wald-im-februar.jpg
ORGANIZER;CN="F%C3%B6rderverein Waldforum Riddagshausen e.V.":MAILTO:waldforum@gmx.de
END:VEVENT
END:VCALENDAR