BEGIN:VCALENDAR
VERSION:2.0
PRODID:-//Niedersächsische Landesforsten - ECPv6.3.5//NONSGML v1.0//EN
CALSCALE:GREGORIAN
METHOD:PUBLISH
X-ORIGINAL-URL:https://www.landesforsten.de
X-WR-CALDESC:Veranstaltungen für Niedersächsische Landesforsten
REFRESH-INTERVAL;VALUE=DURATION:PT1H
X-Robots-Tag:noindex
X-PUBLISHED-TTL:PT1H
BEGIN:VTIMEZONE
TZID:Europe/Berlin
BEGIN:DAYLIGHT
TZOFFSETFROM:+0100
TZOFFSETTO:+0200
TZNAME:CEST
DTSTART:20260329T010000
END:DAYLIGHT
BEGIN:STANDARD
TZOFFSETFROM:+0200
TZOFFSETTO:+0100
TZNAME:CET
DTSTART:20261025T010000
END:STANDARD
END:VTIMEZONE
BEGIN:VEVENT
DTSTART;TZID=Europe/Berlin:20260329T090000
DTEND;TZID=Europe/Berlin:20260503T190000
DTSTAMP:20260421T104247
CREATED:20260224T143822Z
LAST-MODIFIED:20260326T091657Z
UID:107241-1774774800-1777834800@www.landesforsten.de
SUMMARY:Kunstausstellung von Barbara Dräger im WildparkHaus
DESCRIPTION:Am 29. März startet die Künstlerin mit einer Vernissage ihre Ausstellung. \nVon 9:30 bis 11 Uhr sind alle herzlich eingeladen die Künstlerin persönlich zu treffen. \nMit Ihrer „abstrakten und modernen Tiermalerei“ bereichert Sie unser WildparkHaus für ca. 4 Wochen. \nDie Ausstellung ist kostenlos und zu den Zeiten des Wildparks geöffnet.
URL:https://www.landesforsten.de/event/kunstausstellung-von-barbara-draeger-im-wildparkhaus/
LOCATION:WildparkHaus Neuhaus\, Wildpark 1\, Holzminden\, Niedersachsen\, 37603\, Deutschland
CATEGORIES:Forstamt Neuhaus,Wildpark Neuhaus,WildparkHaus
ATTACH;FMTTYPE=image/jpeg:https://www.landesforsten.de/wp-content/uploads/2026/03/fell-und-feder-austtellung.jpg
END:VEVENT
BEGIN:VEVENT
DTSTART;TZID=Europe/Berlin:20260421T173000
DTEND;TZID=Europe/Berlin:20260421T200000
DTSTAMP:20260421T104247
CREATED:20260206T125335Z
LAST-MODIFIED:20260209T081804Z
UID:107001-1776792600-1776801600@www.landesforsten.de
SUMMARY:Waldbaden - Achtsam in den Feierabend
DESCRIPTION:Der Wald ist für viele Menschen ein Ort der Ruhe und Entspannung. In der Natur fällt es uns viel leichter\, den Alltag hinter uns zu lassen. Aber auch dort gelingt es uns nicht immer\, das Gedankenkarussell anzuhalten. Denn: Körperlich durch einen Wald zu gehen oder wirklich mit dem Herzen dort zu sein – das ist nicht dasselbe. \nZiele:\nBeim „Waldbaden“ lernen sie\, achtsam und mit allen Sinnen im Wald präsent zu sein und sich dadurch zu entspannen und Kraft zu tanken. Der positive Effekt des Waldbadens auf Körper\, Geist und Seele ist mittlerweile durch viele Studien bewiesen. \nInhalte: \nIn einer kleinen Gruppe gehen wir in aller Ruhe auf Erkundungstour. Wir lassen uns Zeit zum Beobachten\, Fühlen\, Riechen\, Hören und Staunen. Mit verschiedenen Achtsamkeitsübungen und kreativen\, spielerischen Elementen machen wir unseren Kopf frei und entspannen uns. Wir spüren die Verbindung zur Natur und dadurch auch zu uns selbst. \nZeit: von 17.30 – 19.45 Uhr \nDozentin: Christiane Thoroe \nKosten: 21\,00 € \nTreffpunkt: Waldforum Riddagshausen\, Ebertallee 44\, Braunschweig (Buslinie 423 „Grüner Jäger“) \nVeranstalterin: Volkshochschule Braunschweig GmbH \nAnmeldung über https://www.vhs-braunschweig.de/kurssuche/kurs/Waldbaden-Achtsam-in-den-Feierabend/CCGE48 \n 
URL:https://www.landesforsten.de/event/107001/
LOCATION:Waldforum Riddagshausen\, Ebertallee 44\, Braunschweig\, 38104\, Deutschland
CATEGORIES:Waldforum Riddagshausen
ATTACH;FMTTYPE=image/jpeg:https://www.landesforsten.de/wp-content/uploads/2020/05/anemonen.r..jpg
END:VEVENT
BEGIN:VEVENT
DTSTART;TZID=Europe/Berlin:20260423T080000
DTEND;TZID=Europe/Berlin:20260423T150000
DTSTAMP:20260421T104247
CREATED:20260102T123013Z
LAST-MODIFIED:20260123T112727Z
UID:106019-1776931200-1776956400@www.landesforsten.de
SUMMARY:Zukunftstag für Schüler/innen mit Interesse am Beruf Forstwirt/in - ausgebucht!
DESCRIPTION:Treffpunkt: Ausbildungszentrum Herzogsberge \nVeranstalter: Niedersächsisches Forstamt Wolfenbüttel \nInfos und Anmeldung beim Waldforum Riddagshausen unter Tel.: 0531 / 707 48-32 \nE-Mail:  gabriela.huelse@nfa-wolfenb.niedersachsen.de
URL:https://www.landesforsten.de/event/zukunftstag-fuer-schueler-innen-mit-interesse-am-beruf-forstwirt-in/
LOCATION:Ausbildungszentrum Herzogsberge\, Deutschland
CATEGORIES:Waldforum Riddagshausen
ATTACH;FMTTYPE=image/jpeg:https://www.landesforsten.de/wp-content/uploads/2019/01/steinborn-erklrt-fllung-am-stubben-iired..jpg
END:VEVENT
BEGIN:VEVENT
DTSTART;TZID=Europe/Berlin:20260425T100000
DTEND;TZID=Europe/Berlin:20260425T150000
DTSTAMP:20260421T104247
CREATED:20260130T144130Z
LAST-MODIFIED:20260130T144131Z
UID:106703-1777111200-1777129200@www.landesforsten.de
SUMMARY:Happy Life – Forest Mind
DESCRIPTION:Wege zum Wesentlichen – Von der Lebensplanung zur Tagesplanung \nKosten: Investition in ein zufriedenes Leben: 99\,00 € \nOrt: Waldforum Riddagshausen\, Ebertallee 44\, 38104 Braunschweig (Bus 423 „Grüner Jäger“) \nLeitung und Veranstalterin: Jasmin Frommhold Gesundheitspsychologin (B.A.)\, Hochschulzertifizierte Gesundheitscoachin & Hochschulzertifizierte Waldachtsamkeitstrainerin \nAnmeldung unter: <https://harz-happiness.de/events/ \nwww.harz-happiness.de \n25. April 2026-happy-life-forest-mind-wege-zum-wesentlichen- (pdf) 
URL:https://www.landesforsten.de/event/happy-life-forest-mind-5/
LOCATION:Waldforum Riddagshausen\, Ebertallee 44\, Braunschweig\, 38104\, Deutschland
CATEGORIES:Waldforum Riddagshausen
ATTACH;FMTTYPE=image/jpeg:https://www.landesforsten.de/wp-content/uploads/2018/06/anemonen-im-gegenlicht.jpg
END:VEVENT
BEGIN:VEVENT
DTSTART;TZID=Europe/Berlin:20260426T100000
DTEND;TZID=Europe/Berlin:20260426T130000
DTSTAMP:20260421T104247
CREATED:20260102T122340Z
LAST-MODIFIED:20260130T140549Z
UID:106015-1777197600-1777208400@www.landesforsten.de
SUMMARY:Waldforum-Juniortag: „Mit der Becherlupe auf der Pirsch“ - neuer Termin!
DESCRIPTION:Verschoben vom 25. April 2026! Jetzt neu am Sonntag\, 26. April 2026! \n für Kinder von 6 bis 10 Jahren \nWer krabbelt denn da im Boden oder im Holz? Schwupps – schon ist es in einer Becherlupe. Zählen wir mal die Beine – sind es sechs\, acht oder vielleicht über hundert? Viele Bodentiere werden wir auf der Pirsch entdecken. Mit Hilfe von Bestimmungskarten finden wir ihre Namen heraus und spielerisch erfahren wir einiges über ihre Lebensweise. Wer lebt wohl vegetarisch und wer ist Räuber? \nBitte an waldfeste Kleidung und eigene Verpflegung denken. \nKosten: 15\,00 € pro Kind \nLeitung: Stefanie Bucher-Pekrun und Heike Meusel (zertifizierte Waldpädagoginnen) \nTreffpunkt: Braunschweig-Buchhorst / Waldparkplatz Höseweg\, (gegenüber Ebertallee 45a) \nVeranstalter: Förderverein Waldforum Riddagshausen e.V.\, Tel.: 0531 / 707 48-33\, unterstützt vom Walderlebniszentrum Waldforum Riddagshausen der Niedersächsischen Landesforsten; der Bürgerstiftung Braunschweig\, der Maue-Stiftung\, der Öffentlichen Versicherung Braunschweig und der Stiftung Zukunft Wald \nAnmeldung online: https://waldforum.events/ \n 
URL:https://www.landesforsten.de/event/waldforum-juniortag-mit-der-becherlupe-auf-der-pirsch/
LOCATION:Braunschweig – Buchhorst\, gegenüber Ebertallee 45a\, Braunschweig\, 38104\, Deutschland
CATEGORIES:Waldforum Riddagshausen
ATTACH;FMTTYPE=image/jpeg:https://www.landesforsten.de/wp-content/uploads/2020/11/foto-chr.-neugebauerpxl_20201020_124148493.mp_.jpg
ORGANIZER;CN="F%C3%B6rderverein Waldforum Riddagshausen e.V.":MAILTO:waldforum@gmx.de
END:VEVENT
BEGIN:VEVENT
DTSTART;TZID=Europe/Berlin:20260426T110000
DTEND;TZID=Europe/Berlin:20260426T133000
DTSTAMP:20260421T104247
CREATED:20260102T122540Z
LAST-MODIFIED:20260102T122541Z
UID:106017-1777201200-1777210200@www.landesforsten.de
SUMMARY:Waldforum-Juniortag: „Familienwanderung - Frühling in der Asse“
DESCRIPTION:– für Kinder ab 6 Jahren mit einem Erwachsenen \nAuf dieser Exkursion mit Eltern oder Großeltern wollen wir uns die Frühjahrsblüher\, Bäume und Sträucher sowie die naturkundlichen Besonderheiten der Asse etwas genauer ansehen. In verständlicher Form werden die Pflanzen und die geologische Entstehung der Asse erläutert. Kleine Waldaktionen und Mitmachspiele stehen ebenfalls auf dem Programm. Bei gutem Wetter machen wir zwischendrin auch ein Picknick. \nBitte wetterfeste Kleidung und Rucksackverpflegung mitbringen. \nKosten: 15\,00 Euro pro Kind incl. 1 Erwachsenen \nLeitung: Ute Kabbe (zertifizierte Waldpädagogin) \nTreffpunkt: Wittmar\, Parkplatz am Ende vom Asseweg \nVeranstalter: Förderverein Waldforum Riddagshausen e.V.\, Tel.: 0531 / 707 48-33\, unterstützt vom Walderlebniszentrum Waldforum Riddagshausen der Niedersächsischen Landesforsten; der Bürgerstiftung Braunschweig\, der Maue-Stiftung\, der Öffentlichen Versicherung Braunschweig und der Stiftung Zukunft Wald \nAnmeldung online: https://waldforum.events/ \n 
URL:https://www.landesforsten.de/event/waldforum-juniortag-familienwanderung-fruehling-in-der-asse/
LOCATION:Asse-Wittmar\, Wittmar\, Deutschland
CATEGORIES:Waldforum Riddagshausen
ATTACH;FMTTYPE=image/jpeg:https://www.landesforsten.de/wp-content/uploads/2022/12/13_2.jpg
ORGANIZER;CN="F%C3%B6rderverein Waldforum Riddagshausen e.V.":MAILTO:waldforum@gmx.de
END:VEVENT
END:VCALENDAR