BEGIN:VCALENDAR
VERSION:2.0
PRODID:-//Niedersächsische Landesforsten - ECPv6.3.5//NONSGML v1.0//EN
CALSCALE:GREGORIAN
METHOD:PUBLISH
X-ORIGINAL-URL:https://www.landesforsten.de
X-WR-CALDESC:Veranstaltungen für Niedersächsische Landesforsten
REFRESH-INTERVAL;VALUE=DURATION:PT1H
X-Robots-Tag:noindex
X-PUBLISHED-TTL:PT1H
BEGIN:VTIMEZONE
TZID:Europe/Berlin
BEGIN:DAYLIGHT
TZOFFSETFROM:+0100
TZOFFSETTO:+0200
TZNAME:CEST
DTSTART:20260329T010000
END:DAYLIGHT
BEGIN:STANDARD
TZOFFSETFROM:+0200
TZOFFSETTO:+0100
TZNAME:CET
DTSTART:20261025T010000
END:STANDARD
END:VTIMEZONE
BEGIN:VEVENT
DTSTART;TZID=Europe/Berlin:20260421T173000
DTEND;TZID=Europe/Berlin:20260421T200000
DTSTAMP:20260419T214132
CREATED:20260206T125335Z
LAST-MODIFIED:20260209T081804Z
UID:107001-1776792600-1776801600@www.landesforsten.de
SUMMARY:Waldbaden - Achtsam in den Feierabend
DESCRIPTION:Der Wald ist für viele Menschen ein Ort der Ruhe und Entspannung. In der Natur fällt es uns viel leichter\, den Alltag hinter uns zu lassen. Aber auch dort gelingt es uns nicht immer\, das Gedankenkarussell anzuhalten. Denn: Körperlich durch einen Wald zu gehen oder wirklich mit dem Herzen dort zu sein – das ist nicht dasselbe. \nZiele:\nBeim „Waldbaden“ lernen sie\, achtsam und mit allen Sinnen im Wald präsent zu sein und sich dadurch zu entspannen und Kraft zu tanken. Der positive Effekt des Waldbadens auf Körper\, Geist und Seele ist mittlerweile durch viele Studien bewiesen. \nInhalte: \nIn einer kleinen Gruppe gehen wir in aller Ruhe auf Erkundungstour. Wir lassen uns Zeit zum Beobachten\, Fühlen\, Riechen\, Hören und Staunen. Mit verschiedenen Achtsamkeitsübungen und kreativen\, spielerischen Elementen machen wir unseren Kopf frei und entspannen uns. Wir spüren die Verbindung zur Natur und dadurch auch zu uns selbst. \nZeit: von 17.30 – 19.45 Uhr \nDozentin: Christiane Thoroe \nKosten: 21\,00 € \nTreffpunkt: Waldforum Riddagshausen\, Ebertallee 44\, Braunschweig (Buslinie 423 „Grüner Jäger“) \nVeranstalterin: Volkshochschule Braunschweig GmbH \nAnmeldung über https://www.vhs-braunschweig.de/kurssuche/kurs/Waldbaden-Achtsam-in-den-Feierabend/CCGE48 \n 
URL:https://www.landesforsten.de/event/107001/
LOCATION:Waldforum Riddagshausen\, Ebertallee 44\, Braunschweig\, 38104\, Deutschland
CATEGORIES:Waldforum Riddagshausen
ATTACH;FMTTYPE=image/jpeg:https://www.landesforsten.de/wp-content/uploads/2020/05/anemonen.r..jpg
END:VEVENT
END:VCALENDAR