BEGIN:VCALENDAR
VERSION:2.0
PRODID:-//Niedersächsische Landesforsten - ECPv6.3.5//NONSGML v1.0//EN
CALSCALE:GREGORIAN
METHOD:PUBLISH
X-ORIGINAL-URL:https://www.landesforsten.de
X-WR-CALDESC:Veranstaltungen für Niedersächsische Landesforsten
REFRESH-INTERVAL;VALUE=DURATION:PT1H
X-Robots-Tag:noindex
X-PUBLISHED-TTL:PT1H
BEGIN:VTIMEZONE
TZID:Europe/Berlin
BEGIN:DAYLIGHT
TZOFFSETFROM:+0100
TZOFFSETTO:+0200
TZNAME:CEST
DTSTART:20260329T010000
END:DAYLIGHT
BEGIN:STANDARD
TZOFFSETFROM:+0200
TZOFFSETTO:+0100
TZNAME:CET
DTSTART:20261025T010000
END:STANDARD
END:VTIMEZONE
BEGIN:VEVENT
DTSTART;TZID=Europe/Berlin:20260330T080000
DTEND;TZID=Europe/Berlin:20260402T150000
DTSTAMP:20260420T071556
CREATED:20260102T121448Z
LAST-MODIFIED:20260116T141636Z
UID:106009-1774857600-1775142000@www.landesforsten.de
SUMMARY:Osterferienwoche „Tierolympiade“
DESCRIPTION:– für Kinder ab 7 Jahren \nTiere\, die in der Natur überleben wollen\, benötigen auch außerordentliche Fähigkeiten. Wölfe sind sehr ausdauernd und können an einem Tag\, wenn nötig\, bis zu 80 km weit laufen. Eichhörnchen klettern schwindelerregend\, Luchse haben eine enorme Sprungkraft\, Wildkatzen schleichen lautlos\, Dachse graben sehr tiefe Höhlen\, Eulen hören die geringsten Geräusche auf große Entfernung. Und wir Menschen? Wie gut sind wir? Das testen das bei unserer Tierolympiade! \nBitte waldfeste Kleidung und eigene Verpflegung mitbringen! \nKosten: 120\,00 € pro Kind \nVeranstalter/in: Gelu Ispas und Heike Meusel (zertifizierte/r Waldpädagoge/in) \nTreffpunkt: Braunschweig-Buchhorst / Waldparkplatz an der Ebertallee (gegenüber Ebertallee 45a) \nVeranstalter: Förderverein Waldforum Riddagshausen e.V.\, Tel.: 0531 / 707 48-33\, unterstützt \nvom Walderlebniszentrum Waldforum Riddagshausen der Niedersächsischen Landesforsten; der Bürgerstiftung Braunschweig\, der Maue-Stiftung\, der Öffentlichen Versicherung Braunschweig und der Stiftung Zukunft Wald \nAnmeldung online: https://waldforum.events/ \n 
URL:https://www.landesforsten.de/event/osterferienwoche-tierolympiade/
LOCATION:Braunschweig – Buchhorst\, gegenüber Ebertallee 45a\, Braunschweig\, 38104\, Deutschland
CATEGORIES:Waldforum Riddagshausen
ATTACH;FMTTYPE=image/jpeg:https://www.landesforsten.de/wp-content/uploads/2022/11/22_1.jpg
ORGANIZER;CN="F%C3%B6rderverein Waldforum Riddagshausen e.V.":MAILTO:waldforum@gmx.de
END:VEVENT
BEGIN:VEVENT
DTSTART;TZID=Europe/Berlin:20260323T080000
DTEND;TZID=Europe/Berlin:20260327T150000
DTSTAMP:20260420T071556
CREATED:20260102T121051Z
LAST-MODIFIED:20260102T121052Z
UID:106005-1774252800-1774623600@www.landesforsten.de
SUMMARY:Osterferienwoche „Frühlingstheater“
DESCRIPTION:– für Kinder ab 7 Jahren \nDer Winter ist vorbei! Die Tiere erwachen aus dem Winterschlaf und einigen juckt das dicke Winterfell. Im Frühlingswald ist also allerhand Betrieb. Wir machen daraus ein Theaterstück. Ihr Kinder seid die Schauspieler\, die in die verschiedensten Tierrollen schlüpfen. Und am letzten Tag gibt es die große Vorstellung für eure Liebsten \nBitte waldfeste Kleidung und Tagesverpflegung mitbringen! \nKosten: 150\,00 € pro Kind \nLeitung: Gelu Ispas und Heike Meusel \nTreffpunkt: Braunschweig-Buchhorst/ Waldparkplatz Höseweg (gegenüber Ebertallee 45a) \nVeranstalter: Förderverein Waldforum Riddagshausen e.V.\, Tel.: 0531 / 707 48-33\, unterstützt \nvom Walderlebniszentrum Waldforum Riddagshausen der Niedersächsischen Landesforsten; der Bürgerstiftung Braunschweig\, der Maue-Stiftung\, der Öffentlichen Versicherung Braunschweig und der Stiftung Zukunft Wald \nAnmeldung online: https://waldforum.events/ \n 
URL:https://www.landesforsten.de/event/osterferienwoche-fruehlingstheater/
LOCATION:Braunschweig – Buchhorst\, gegenüber Ebertallee 45a\, Braunschweig\, 38104\, Deutschland
CATEGORIES:Waldforum Riddagshausen
ATTACH;FMTTYPE=image/jpeg:https://www.landesforsten.de/wp-content/uploads/2023/03/waldart.jpg
ORGANIZER;CN="F%C3%B6rderverein Waldforum Riddagshausen e.V.":MAILTO:waldforum@gmx.de
END:VEVENT
BEGIN:VEVENT
DTSTART;TZID=Europe/Berlin:20260321T100000
DTEND;TZID=Europe/Berlin:20260321T123000
DTSTAMP:20260420T071556
CREATED:20260102T120205Z
LAST-MODIFIED:20260116T140911Z
UID:105999-1774087200-1774096200@www.landesforsten.de
SUMMARY:Waldforum-Juniortag: „Pflanzfest in der Buchhorst“
DESCRIPTION:– Für Kinder ab 3 Jahren mit einem Erwachsenen \nBäumchenretter aufgepasst! Wenn ein kleiner Baumsamen im Wald gekeimt ist\, heißt das noch lange nicht\, dass er sich einen guten Platz ausgesucht hat. Deshalb retten wir die kleinen Bäume vom Fahrweg und setzen sie an eine geschützte Stelle ins Gelände der Waldhütte Buchhorst um. So bleiben sie in ihrem gewohnten Waldboden\, haben aber viel bessere Chancen\, große Waldbäume zu werden. \nBitte waldgerechte Kleidung\, Rucksackverpflegung und\, wer hat\, eine kleine Kinderschaufel mitbringen. \nKosten: 15\,00 € pro Kind incl. 1 Erwachsenen + 3\,00 € Materialkosten \nLeitung: Helmut Altenhoff \nTreffpunkt: Braunschweig-Buchhorst/ Waldparkplatz Höseweg (gegenüber Ebertallee 45a) \nVeranstalter: Förderverein Waldforum Riddagshausen e.V.\, Tel.: 0531 / 707 48-33\, unterstützt vom Walderlebniszentrum Waldforum Riddagshausen der Niedersächsischen Landesforsten\, der Bürgerstiftung Braunschweig\, der Maue-Stiftung\, der Öffentlichen Versicherung Braunschweig und der Stiftung Zukunft Wald \nAnmeldung online: https://waldforum.events/ \n 
URL:https://www.landesforsten.de/event/waldforum-juniortag-pflanzfest-in-der-buchhorst/
LOCATION:Braunschweig – Buchhorst\, gegenüber Ebertallee 45a\, Braunschweig\, 38104\, Deutschland
CATEGORIES:Waldforum Riddagshausen
ATTACH;FMTTYPE=image/jpeg:https://www.landesforsten.de/wp-content/uploads/2022/11/8_1.jpg
ORGANIZER;CN="F%C3%B6rderverein Waldforum Riddagshausen e.V.":MAILTO:waldforum@gmx.de
END:VEVENT
BEGIN:VEVENT
DTSTART;TZID=Europe/Berlin:20260314T120000
DTEND;TZID=Europe/Berlin:20260314T180000
DTSTAMP:20260420T071556
CREATED:20260102T122048Z
LAST-MODIFIED:20260102T122049Z
UID:106013-1773489600-1773511200@www.landesforsten.de
SUMMARY:Waldforum-Juniortag: „Vater\, Kind\, Zeit: Feuer und Flamme!“
DESCRIPTION:–  für Kinder ab 5 Jahren mit ihrem Vater* \nEinen Tag lang nehmen wir uns Zeit dafür zu spüren und zu genießen\, dass wir und unsere Kinder genauso ok sind\, wie wir sind. Spiele helfen uns dabei\, Leistungsdenken loszulassen und mehr über den Wald und seine Bewohner*innen zu erfahren. Dabei sind wir mal laut\, mal leise\, mal wild und kraftvoll\, mal zart und sanft\, je nachdem wozu uns die Zusammenstellung der Gruppe und der Jahreszeit. Im März werden wir lernen ein Lagerfeuer ohne Streichholz und Feuerzeug zu entzünden und wie wir eine kleine Mahlzeit am offenen Feuer zubereiten. \nEine genaue Mitbringliste wird nach Anmeldung verschickt. \n*Das Angebot richtet sich an Väter und ihre Kinder\, egal\, ob es dabei um leibliche\, Stief-\, Patchwork- oder Pflegekinder geht. Jüngere Kinder können gegebenenfalls nach vorheriger Absprache teilnehmen. Mehr Informationen unter: www.wildevaeter.de \nKosten: 30\,00 € pro Kind incl. 1 Erwachsenen \nLeitung: Moritz Tobias Scheuermann (zertifizierter Wildnis- und Waldpädagoge) \nTreffpunkt: Braunschweig-Buchhorst/ Waldparkplatz Höseweg (gegenüber Ebertallee 45a) \nVeranstalter: Förderverein Waldforum Riddagshausen e.V.\, Tel.: 0531 / 707 48-33\, unterstützt vom Walderlebniszentrum Waldforum Riddagshausen der Niedersächsischen Landesforsten\, der Bürgerstiftung Braunschweig\, der Maue-Stiftung\, der Öffentlichen Versicherung Braunschweig und der Stiftung Zukunft Wald \nAnmeldung online: https://waldforum.events/
URL:https://www.landesforsten.de/event/waldforum-juniortag-vater-kind-zeit-feuer-und-flamme/
LOCATION:Braunschweig – Buchhorst\, gegenüber Ebertallee 45a\, Braunschweig\, 38104\, Deutschland
CATEGORIES:Waldforum Riddagshausen
ATTACH;FMTTYPE=image/jpeg:https://www.landesforsten.de/wp-content/uploads/2024/12/xsommernacht_faktotum-medienproduktion_dsc00135.jpg
ORGANIZER;CN="F%C3%B6rderverein Waldforum Riddagshausen e.V.":MAILTO:waldforum@gmx.de
END:VEVENT
BEGIN:VEVENT
DTSTART;TZID=Europe/Berlin:20260314T120000
DTEND;TZID=Europe/Berlin:20260314T170000
DTSTAMP:20260420T071556
CREATED:20260102T115842Z
LAST-MODIFIED:20260102T115843Z
UID:105997-1773489600-1773507600@www.landesforsten.de
SUMMARY:Starke Mütter – fest verwurzelt
DESCRIPTION:Verwurzelt im Wald\, gestärkt für den Alltag. Inmitten der Kraft des Waldes biete ich Müttern eine Auszeit zum Durchatmen\, Auftanken und Austauschen. Lass die Ruhe der Natur dich tragen\, während du neue Energie schöpfst. Erlebe\, wie die Natur dich erdet und dir Halt und Gelassenheit für deinen Alltag schenkt. Ein Ort\, um deine Wurzeln zu stärken und aufzublühen. \nKosten: 37\,50 € pro person \nLeitung: Vivian Klimainsky \nTreffpunkt: Braunschweig-Buchhorst/ Waldparkplatz Höseweg (gegenüber Ebertallee 45a) \nVeranstalter: Förderverein Waldforum Riddagshausen e.V.\, Tel.: 0531 / 707 48-33\, unterstützt vom Walderlebniszentrum Waldforum Riddagshausen der Niedersächsischen Landesforsten\, der Bürgerstiftung Braunschweig\, der Maue-Stiftung\, der Öffentlichen Versicherung Braunschweig und der Stiftung Zukunft Wald \nAnmeldung online: https://waldforum.events/ \n 
URL:https://www.landesforsten.de/event/starke-muetter-fest-verwurzelt/
LOCATION:Braunschweig – Buchhorst\, gegenüber Ebertallee 45a\, Braunschweig\, 38104\, Deutschland
CATEGORIES:Waldforum Riddagshausen
ATTACH;FMTTYPE=image/jpeg:https://www.landesforsten.de/wp-content/uploads/2025/02/x2011-06-17-um-08-54-41.jpg
ORGANIZER;CN="F%C3%B6rderverein Waldforum Riddagshausen e.V.":MAILTO:waldforum@gmx.de
END:VEVENT
BEGIN:VEVENT
DTSTART;TZID=Europe/Berlin:20260208T110000
DTEND;TZID=Europe/Berlin:20260208T150000
DTSTAMP:20260420T071556
CREATED:20250224T105308Z
LAST-MODIFIED:20250820T110524Z
UID:100470-1770548400-1770562800@www.landesforsten.de
SUMMARY:Seminar für Erwachsene - „Wald für Geist und Gaumen“
DESCRIPTION:Unterhaltsame Waldtour für Neugierige durch die Braunschweiger Buchhorst. Auf der zweistündigen Wanderung gibt es Wissenswertes über unsere heimische Tier- und Pflanzenwelt\, Überraschendes zum Ausprobieren\, Interessantes zum Mitnehmen. Gemeinsam entdecken und erleben den winterlichen Wald. Und mit etwas Glück sind vielleicht schon die ersten Früühlingsboten zu finden. Ziel ist die urige Waldhütte in der Buchhorst\, wo uns Speis und Trank erwarten. Bei Wildgulasch\, Punsch und Cowboypudding vom Lagerfeuer lassen wir den erlebnisreichen Ausflug gemütlich ausklingen. \nMitbringen: Wald- und wetterfeste Kleidung\, Appetit auf Neues \nKosten: 65\,00 € pro Person \nLeitung: Christiane Neugebauer und Ina Schäfer (zertifizierte Waldpädagoginnen) \nTreffpunkt: Braunschweig-Buchhorst/ Waldparkplatz Höseweg (gegenüber Ebertallee 45a) \nVeranstalter: Förderverein Waldforum Riddagshausen e.V.\, Tel.: 0531 / 707 48-33\, unterstützt vom Walderlebniszentrum Waldforum Riddagshausen der Niedersächsischen Landesforsten \nAnmeldung online: https://waldforum.events
URL:https://www.landesforsten.de/event/seminar-fuer-erwachsene-wald-fuer-geist-und-gaumen/
LOCATION:Braunschweig – Buchhorst\, gegenüber Ebertallee 45a\, Braunschweig\, 38104\, Deutschland
CATEGORIES:Waldforum Riddagshausen
ATTACH;FMTTYPE=image/jpeg:https://www.landesforsten.de/wp-content/uploads/2024/09/wald-fuer-geist-und-gaumen.jpg
ORGANIZER;CN="F%C3%B6rderverein Waldforum Riddagshausen e.V.":MAILTO:waldforum@gmx.de
END:VEVENT
END:VCALENDAR