BEGIN:VCALENDAR
VERSION:2.0
PRODID:-//Niedersächsische Landesforsten - ECPv6.3.5//NONSGML v1.0//EN
CALSCALE:GREGORIAN
METHOD:PUBLISH
X-ORIGINAL-URL:https://www.landesforsten.de
X-WR-CALDESC:Veranstaltungen für Niedersächsische Landesforsten
REFRESH-INTERVAL;VALUE=DURATION:PT1H
X-Robots-Tag:noindex
X-PUBLISHED-TTL:PT1H
BEGIN:VTIMEZONE
TZID:Europe/Berlin
BEGIN:DAYLIGHT
TZOFFSETFROM:+0100
TZOFFSETTO:+0200
TZNAME:CEST
DTSTART:20260329T010000
END:DAYLIGHT
BEGIN:STANDARD
TZOFFSETFROM:+0200
TZOFFSETTO:+0100
TZNAME:CET
DTSTART:20261025T010000
END:STANDARD
END:VTIMEZONE
BEGIN:VEVENT
DTSTART;TZID=Europe/Berlin:20260626T200000
DTEND;TZID=Europe/Berlin:20260626T223000
DTSTAMP:20260425T162822
CREATED:20260116T134343Z
LAST-MODIFIED:20260116T134344Z
UID:106332-1782504000-1782513000@www.landesforsten.de
SUMMARY:Waldforum-Juniortag: „Nachtwanderung mit Taschenlampe“
DESCRIPTION:– für Kinder ab 6 Jahren mit einem Erwachsenen \nWir gehen von der Dämmerung in die Dunkelheit\, beobachten Fledermäuse\, schleichen wie die Wölfe und lauschen den Tieren des Waldes. Vielleicht sehen wir ganz besondere Tiere\, die wir sonst nicht zu sehen bekommen (welche\, wird nicht verraten). Wenn es dann so richtig dunkel ist\, wollen wir unsere Taschenlampen einschalten und schauen\, wer zu später Stunde im Wald so unterwegs ist. \nBitte mitbringen: waldfeste Kleidung\, Rucksackverpflegung und Taschenlampe \nKosten: 15\,00 € pro Kind incl. 1 Erwachsenen \nLeitung: Ute Kabbe (zertifizierte Waldpädagogin) \nTreffpunkt: Wolfenbüttel\, Parkplatz am Waldeingang zum LÖWE-Pfad (Ecke Neuer Weg/Waldweg\, gegenüber Fitness-Studio)\, bei Anfahrt mit dem Bus: Linie 420 bis Haltestelle Forstweg \nVeranstalter: Förderverein Waldforum Riddagshausen e.V.\, Tel.: 0531 / 707 48-33\, unterstützt vom Walderlebniszentrum Waldforum Riddagshausen der Niedersächsischen Landesforsten; der Bürgerstiftung Braunschweig\, der Maue-Stiftung\, der Öffentlichen Versicherung Braunschweig und der Stiftung Zukunft Wald \nAnmeldung online: https://waldforum.events/
URL:https://www.landesforsten.de/event/waldforum-juniortag-nachtwanderung-mit-taschenlampe/
LOCATION:LÖWE-Pfad\, Lechlumer Holz\, Wolfenbüttel\, 38302\, Deutschland
CATEGORIES:Waldforum Riddagshausen
ATTACH;FMTTYPE=image/jpeg:https://www.landesforsten.de/wp-content/uploads/2023/12/papa-und-ich-xdsc_0092.jpg
ORGANIZER;CN="F%C3%B6rderverein Waldforum Riddagshausen e.V.":MAILTO:waldforum@gmx.de
END:VEVENT
BEGIN:VEVENT
DTSTART;TZID=Europe/Berlin:20260704T140000
DTEND;TZID=Europe/Berlin:20260704T163000
DTSTAMP:20260425T162822
CREATED:20260119T122518Z
LAST-MODIFIED:20260202T122545Z
UID:106369-1783173600-1783182600@www.landesforsten.de
SUMMARY:Waldforum-Juniortag: „Hexenkräuter und Kartoffelbrei“
DESCRIPTION: für Kinder ab 6 Jahren (incl. 1 Erwachsenen) \nVielen Kräutern\, die in der Natur vorkommen\, sagt man nach\, dass sie verzaubern können. Wir lernen Kräuter kennen\, machen Hexenspiele und erfahren\, wieso Kräuterfrauen früher als Hexen bezeichnet wurden. Ihr werdet zur richtigen Kräuterhexen-Expertin. Was Hexenkräuter und Kartoffelbrei gemeinsam haben\, das erfahrt ihr am Ende der Veranstaltung. \nBitte waldfeste Kleidung und eigene Verpflegung mitbringen! \nKosten: 15\,00 € pro Kind (incl. 1 Erwachsener) \nLeitung: Ute Kabbe \nTreffpunkt: Wolfenbüttel – LÖWE-Pfad \nVeranstalter: Förderverein Waldforum Riddagshausen e.V.\, Tel.: 0531 / 707 48-33\, unterstützt vom Walderlebniszentrum Waldforum Riddagshausen der Niedersächsischen Landesforsten; der Bürgerstiftung Braunschweig\, der Maue-Stiftung\, der Öffentlichen Versicherung Braunschweig und der Stiftung Zukunft Wald \nAnmeldung online: https://waldforum.events/
URL:https://www.landesforsten.de/event/waldforum-juniortag-hexenkraeuter-und-kartoffelbrei/
LOCATION:LÖWE-Pfad\, Lechlumer Holz\, Wolfenbüttel\, 38302\, Deutschland
CATEGORIES:Waldforum Riddagshausen
ATTACH;FMTTYPE=image/jpeg:https://www.landesforsten.de/wp-content/uploads/2023/12/xfoto-martin-steinmann-wiese_garten_img_1815.jpg
ORGANIZER;CN="F%C3%B6rderverein Waldforum Riddagshausen e.V.":MAILTO:waldforum@gmx.de
END:VEVENT
BEGIN:VEVENT
DTSTART;TZID=Europe/Berlin:20260705T140000
DTEND;TZID=Europe/Berlin:20260705T163000
DTSTAMP:20260425T162822
CREATED:20260119T123839Z
LAST-MODIFIED:20260119T123840Z
UID:106376-1783260000-1783269000@www.landesforsten.de
SUMMARY:Geschichte im Dickicht
DESCRIPTION:Eine spannende Reise in das Lechlumer Holz und seine faszinierende Entwicklung führt zu frühzeitlichen Siedlungen\, alten Hinrichtungsstätten und Resten barocken Reichtums. Wie hat sich der Wald in über 1500 Jahren der Nutzung verändert? Vor welchen Herausforderungen steht der Wald. Wie kann er sich anpassen\, und welche Rolle spielen wir Menschen dabei? \nKosten: 15\,00 € pro Person \nLeitung: Vivian Klimainsky \nTreffpunkt: Wolfenbüttel – Lechlumer Holz Parkplatz Ecke Neuer Weg/Waldweg \nVeranstalter: Förderverein Waldforum Riddagshausen e.V.\, Tel.: 0531 / 707 48-33\, unterstützt vom Walderlebniszentrum Waldforum Riddagshausen der Niedersächsischen Landesforsten\, der Bürgerstiftung Braunschweig\, der Maue-Stiftung\, der Öffentlichen Versicherung Braunschweig und der Stiftung Zukunft Wald \nAnmeldung online: https://waldforum.events/
URL:https://www.landesforsten.de/event/geschichte-im-dickicht-2/
LOCATION:LÖWE-Pfad\, Lechlumer Holz\, Wolfenbüttel\, 38302\, Deutschland
CATEGORIES:Waldforum Riddagshausen
ATTACH;FMTTYPE=image/jpeg:https://www.landesforsten.de/wp-content/uploads/2019/06/xstein20190320_120139.jpg
ORGANIZER;CN="F%C3%B6rderverein Waldforum Riddagshausen e.V.":MAILTO:waldforum@gmx.de
END:VEVENT
BEGIN:VEVENT
DTSTART;TZID=Europe/Berlin:20260810T080000
DTEND;TZID=Europe/Berlin:20260812T150000
DTSTAMP:20260425T162822
CREATED:20260121T115750Z
LAST-MODIFIED:20260121T115750Z
UID:106466-1786348800-1786546800@www.landesforsten.de
SUMMARY:Sommerferientage „Die Löwen sind los“
DESCRIPTION: für Kinder von 7 bis 11 Jahren \nLasst uns in den letzten drei Sommerferientagen den LÖWE-Pfad und seinen Wald entdecken. Wir erforschen spielerisch die Lebensweisen der Tiere und Bäume und lernen den Waldboden kennen. Warum wachsen Bäume nicht in den Himmel? Was passiert mit dem Laub aus dem Herbst und welche Tiere leben wohl in diesem Wald? Wir wollen spielen\, bauen\, schnitzen und den Wald mit all unseren Sinnen erleben. \nBitte Tagesverpflegung\, spielerprobte Waldkleidung (lange Hosen\, feste Schuhe) sowie Sonnen- und Mücken/Zeckenschutz mitbringen! \nKosten: 90\,00 € pro Kind \nLeitung: Heike Meusel und Helmut Altenhoff \nTreffpunkt: Wolfenbüttel\, Parkplatz am Waldweg/Eingang LÖWE-Pfad (Buslinie 420/421 „Forstweg“) \nVeranstalter: Förderverein Waldforum Riddagshausen e.V.\, Tel.: 0531 / 707 48-33\, unterstützt vom Walderlebniszentrum Waldforum Riddagshausen der Niedersächsischen Landesforsten; der Bürgerstiftung Braunschweig\, der Maue-Stiftung\, der Öffentlichen Versicherung Braunschweig und der Stiftung Zukunft Wald \nAnmeldung online: https://waldforum.events/ \n 
URL:https://www.landesforsten.de/event/sommerferientage-die-loewen-sind-los/
LOCATION:LÖWE-Pfad\, Lechlumer Holz\, Wolfenbüttel\, 38302\, Deutschland
ATTACH;FMTTYPE=image/jpeg:https://www.landesforsten.de/wp-content/uploads/2023/12/17_2.jpg
ORGANIZER;CN="F%C3%B6rderverein Waldforum Riddagshausen e.V.":MAILTO:waldforum@gmx.de
END:VEVENT
BEGIN:VEVENT
DTSTART;TZID=Europe/Berlin:20260813T080000
DTEND;TZID=Europe/Berlin:20260814T150000
DTSTAMP:20260425T162822
CREATED:20260121T122157Z
LAST-MODIFIED:20260121T122158Z
UID:106476-1786608000-1786719600@www.landesforsten.de
SUMMARY:Waldforum-Juniortage: „Zwei Waldtage für Schulstarter“
DESCRIPTION: für Schulanfänger*innen\, die am 15. August 2026 eingeschult werden \nAufgepasst\, liebe Schul-Füchse und Mathe-Rehe! Der große Tag der Einschulung naht! Jetzt ist aber noch einmal Zeit\, draußen herumzutoben und die Sinne für die Schulzeit zu schärfen. Wir lesen Spuren\, erleben Besonderheiten des Waldes\, treffen ein paar tierische Waldbewohner und machen Kunst im Wald. Daneben bleibt natürlich noch Zeit zum Spielen und Entspannen. \nBitte waldfeste Kleidung und eigene Verpflegung mitbringen! \nKosten: 60\,00 € pro Kind \nLeitung: Helga Gries und Martin Polland \nTreffpunkt: Wolfenbüttel\, Parkplatz am Waldweg/Eingang LÖWE-Pfad (Buslinie 420/421 „Forstweg“) \nVeranstalter: Förderverein Waldforum Riddagshausen e.V.\, Tel.: 0531 / 707 48-33\, unterstützt vom Walderlebniszentrum Waldforum Riddagshausen der Niedersächsischen Landesforsten; der Bürgerstiftung Braunschweig\, der Maue-Stiftung\, der Öffentlichen Versicherung Braunschweig und der Stiftung Zukunft Wald \nAnmeldung online: https://waldforum.events/
URL:https://www.landesforsten.de/event/waldforum-juniortage-zwei-waldtage-fuer-schulstarter-2/
LOCATION:LÖWE-Pfad\, Lechlumer Holz\, Wolfenbüttel\, 38302\, Deutschland
CATEGORIES:Waldforum Riddagshausen
ATTACH;FMTTYPE=image/jpeg:https://www.landesforsten.de/wp-content/uploads/2021/12/xfuchskinder_dscn9544martin-steinmann.jpg
ORGANIZER;CN="F%C3%B6rderverein Waldforum Riddagshausen e.V.":MAILTO:waldforum@gmx.de
END:VEVENT
BEGIN:VEVENT
DTSTART;TZID=Europe/Berlin:20261107T120000
DTEND;TZID=Europe/Berlin:20261107T143000
DTSTAMP:20260425T162822
CREATED:20260123T131705Z
LAST-MODIFIED:20260123T131706Z
UID:106547-1794052800-1794061800@www.landesforsten.de
SUMMARY:Waldforum-Juniortag: „Auch der Herbst hat schöne Farben“
DESCRIPTION:  für Kinder ab 6 (Eltern dürfen mitkommen – müssen aber nicht!) \nDie Sommerblumen sind verblüht und der Wald duftet so typisch nach Herbst. Mit den Farben der Natur wollen wir Mandalas legen\, eine Lesezeichen gestalten und einen bunten Herbstanhänger anfertigen. Informationen zu den Waldtieren gibt es auch. \nBitte waldfeste Kleidung und eigene Verpflegung mitbringen. \nKosten: 15\,00 € pro Kind \nLeitung: Ute Kabbe (zertifizierte Waldpädagogin) \nTreffpunkt: Wolfenbüttel\, Parkplatz am Waldeingang zum LÖWE-Pfad (Ecke Neuer Weg/Waldweg\, gegenüber Fitness-Studio)\, bei Anfahrt mit dem Bus: Linie 420 bis Haltestelle Forstweg \nVeranstalter: Förderverein Waldforum Riddagshausen e.V.\, Tel.: 0531 / 707 48-33\, unterstützt vom Walderlebniszentrum Waldforum Riddagshausen der Niedersächsischen Landesforsten; der Bürgerstiftung Braunschweig\, der Maue-Stiftung\, der Öffentlichen Versicherung Braunschweig und der Stiftung Zukunft Wald \nAnmeldung online: https://waldforum.events/
URL:https://www.landesforsten.de/event/waldforum-juniortag-auch-der-herbst-hat-schoene-farben/
LOCATION:LÖWE-Pfad\, Lechlumer Holz\, Wolfenbüttel\, 38302\, Deutschland
CATEGORIES:Waldforum Riddagshausen
ATTACH;FMTTYPE=image/jpeg:https://www.landesforsten.de/wp-content/uploads/2020/01/26.1.-foto-christiane-neugebauer-dsc04041.jpg
ORGANIZER;CN="F%C3%B6rderverein Waldforum Riddagshausen e.V.":MAILTO:waldforum@gmx.de
END:VEVENT
BEGIN:VEVENT
DTSTART;TZID=Europe/Berlin:20261128T110000
DTEND;TZID=Europe/Berlin:20261128T130000
DTSTAMP:20260425T162822
CREATED:20260123T132424Z
LAST-MODIFIED:20260123T132424Z
UID:106553-1795863600-1795870800@www.landesforsten.de
SUMMARY:Waldforum-Juniortag: „Wintergeschichten aus dem Wald“
DESCRIPTION:  für Kinder ab 4 mit einem Erwachsenen \nMit weihnachtlichen Waldgeschichten und kleinen Mitmachaktionen gehen wir auf eine Reise durch den Wald. Die Geschichten von den kleinen Mäusekindern und dem frierenden Igel erwärmen das Herz. Zum Schluss wollen wir den Waldtieren eine Freunde bereiten. Mehr wird vorher nicht verraten. \nBitte waldfeste Kleidung und eigene Verpflegung mitbringen. \nKosten: 15\,00 € pro Kind incl. 1 Erwachsenen \nLeitung: Ute Kabbe (zertifizierte Waldpädagogin) \nTreffpunkt: Wolfenbüttel\, Parkplatz am Waldeingang zum LÖWE-Pfad (Ecke Neuer Weg/Waldweg\, gegenüber Fitness-Studio)\, bei Anfahrt mit dem Bus: Linie 420 bis Haltestelle Forstweg \nVeranstalter: Förderverein Waldforum Riddagshausen e.V.\, Tel.: 0531 / 707 48-33\, unterstützt vom Walderlebniszentrum Waldforum Riddagshausen der Niedersächsischen Landesforsten; der Bürgerstiftung Braunschweig\, der Maue-Stiftung\, der Öffentlichen Versicherung Braunschweig und der Stiftung Zukunft Wald \nAnmeldung online: https://waldforum.events/ \n 
URL:https://www.landesforsten.de/event/waldforum-juniortag-wintergeschichten-aus-dem-wald/
LOCATION:LÖWE-Pfad\, Lechlumer Holz\, Wolfenbüttel\, 38302\, Deutschland
CATEGORIES:Waldforum Riddagshausen
ATTACH;FMTTYPE=image/jpeg:https://www.landesforsten.de/wp-content/uploads/2021/12/xdscf4143ute-kabbe.jpg
ORGANIZER;CN="F%C3%B6rderverein Waldforum Riddagshausen e.V.":MAILTO:waldforum@gmx.de
END:VEVENT
END:VCALENDAR