BEGIN:VCALENDAR
VERSION:2.0
PRODID:-//Niedersächsische Landesforsten - ECPv6.3.5//NONSGML v1.0//EN
CALSCALE:GREGORIAN
METHOD:PUBLISH
X-ORIGINAL-URL:https://www.landesforsten.de
X-WR-CALDESC:Veranstaltungen für Niedersächsische Landesforsten
REFRESH-INTERVAL;VALUE=DURATION:PT1H
X-Robots-Tag:noindex
X-PUBLISHED-TTL:PT1H
BEGIN:VTIMEZONE
TZID:Europe/Berlin
BEGIN:DAYLIGHT
TZOFFSETFROM:+0100
TZOFFSETTO:+0200
TZNAME:CEST
DTSTART:20250330T010000
END:DAYLIGHT
BEGIN:STANDARD
TZOFFSETFROM:+0200
TZOFFSETTO:+0100
TZNAME:CET
DTSTART:20251026T010000
END:STANDARD
END:VTIMEZONE
BEGIN:VEVENT
DTSTART;TZID=Europe/Berlin:20250926T173000
DTEND;TZID=Europe/Berlin:20250926T190000
DTSTAMP:20260421T111601
CREATED:20240819T080124Z
LAST-MODIFIED:20250818T074112Z
UID:97769-1758907800-1758913200@www.landesforsten.de
SUMMARY:Hirschbrunft im Wildpark Neuhaus
DESCRIPTION:Es schallt durch den Wald…\n(Neuhaus im Solling) Jedes Jahr aufs Neue\, wenn es Herbst wird\, erschallt das urige Röhren der Hirsche durch den Solling. Es ist Hirschbrunft\, die Paarungszeit des Rotwildes. Von Mitte September bis Anfang Oktober lässt sich dieses imposante Naturschauspiel vor allem im Wildpark Neuhaus eindrucksvoll und mit etwas Glück auf kurze Distanz erleben. Mit oft hohem Körpereinsatz und imposanter Stimme beeindruckt der Platzhirsch nicht nur seinen Rivalen\, sondern auch die Wildparkbesucher. \nAuch in diesem Jahr finden wieder öffentliche Führungen zur Rotwildbrunft im Wildpark Neuhaus\, einer Erlebniseinrichtung der Niedersächsischen Landesforsten\, statt. \nJeweils von 17:30 Uhr bis ca. 19:00 Uhr \nIm Anschluss gibt es die Möglichkeit den Tag mit einer warmen Erbsensuppe auf der Terrasse des WildparkHauses ausklingen zu lassen. Das Essen bietet das Kiosk am Wildpark an. \nPreise: 10\,50€ Erwachsener\, 7€ Kind (inkl. Eintritt) \nEssen: 10€ p.P. (Essen + Getränk) \n  \nEine Anmeldung unter +49 (0) 5536 – 960 – 9980  ist erforderlich. Das Essen kann optional dazu gebucht werden. Die Plätze sind begrenzt. \n  \nalle Termine: \nAbendführungen: 24.09. (Mi.)\, 26.09. (Fr.)\, 27.09. (Sa.)\, 01.10. (Mi.)\, 04.10. (Sa.) \nMorgenführung: 03.10. (Fr.) \nZudem gibt es am 04.10. die Möglichkeit\, den Park bereits ab 7:00 Uhr auf eigene Faust zu erkunden (Aktion „Frühaufsteher“). Auch hierfür ist eine Anmeldung unter oben angegebener Nummer erforderlich. \nBitte haben Sie Verständnis dafür\, dass es schwierig ist ein solcher Naturschauspiel genau zu planen. Es ist also möglich\, dass sich die Termine noch etwas verschieben werden. Je nach dem\, wann die Hirsche mit Ihrer Brunft beginnen. Sie werden über Änderungen informiert.
URL:https://www.landesforsten.de/event/hirschbrunft-im-wildpark-neuhaus-2/2025-09-26/
LOCATION:Wildpark Neuhaus\, Wildpark 1\, Holzminden\, Niedersachsen\, 37603\, Deutschland
CATEGORIES:Wildpark Neuhaus,WildparkHaus
ATTACH;FMTTYPE=image/jpeg:https://www.landesforsten.de/wp-content/uploads/2023/09/2011-09-15-um-16-05-30-scaled.jpg
ORGANIZER;CN="Wildpark Neuhaus":MAILTO:wildpark-neuhaus@nfa-neuhaus.niedersachsen.de
END:VEVENT
BEGIN:VEVENT
DTSTART;TZID=Europe/Berlin:20250924T173000
DTEND;TZID=Europe/Berlin:20250924T190000
DTSTAMP:20260421T111601
CREATED:20240819T080124Z
LAST-MODIFIED:20250818T074111Z
UID:79885-1758735000-1758740400@www.landesforsten.de
SUMMARY:Hirschbrunft im Wildpark Neuhaus
DESCRIPTION:Es schallt durch den Wald…\n(Neuhaus im Solling) Jedes Jahr aufs Neue\, wenn es Herbst wird\, erschallt das urige Röhren der Hirsche durch den Solling. Es ist Hirschbrunft\, die Paarungszeit des Rotwildes. Von Mitte September bis Anfang Oktober lässt sich dieses imposante Naturschauspiel vor allem im Wildpark Neuhaus eindrucksvoll und mit etwas Glück auf kurze Distanz erleben. Mit oft hohem Körpereinsatz und imposanter Stimme beeindruckt der Platzhirsch nicht nur seinen Rivalen\, sondern auch die Wildparkbesucher. \nAuch in diesem Jahr finden wieder öffentliche Führungen zur Rotwildbrunft im Wildpark Neuhaus\, einer Erlebniseinrichtung der Niedersächsischen Landesforsten\, statt. \nJeweils von 17:30 Uhr bis ca. 19:00 Uhr \nIm Anschluss gibt es die Möglichkeit den Tag mit einer warmen Erbsensuppe auf der Terrasse des WildparkHauses ausklingen zu lassen. Das Essen bietet das Kiosk am Wildpark an. \nPreise: 10\,50€ Erwachsener\, 7€ Kind (inkl. Eintritt) \nEssen: 10€ p.P. (Essen + Getränk) \n  \nEine Anmeldung unter +49 (0) 5536 – 960 – 9980  ist erforderlich. Das Essen kann optional dazu gebucht werden. Die Plätze sind begrenzt. \n  \nalle Termine: \nAbendführungen: 24.09. (Mi.)\, 26.09. (Fr.)\, 27.09. (Sa.)\, 01.10. (Mi.)\, 04.10. (Sa.) \nMorgenführung: 03.10. (Fr.) \nZudem gibt es am 04.10. die Möglichkeit\, den Park bereits ab 7:00 Uhr auf eigene Faust zu erkunden (Aktion „Frühaufsteher“). Auch hierfür ist eine Anmeldung unter oben angegebener Nummer erforderlich. \nBitte haben Sie Verständnis dafür\, dass es schwierig ist ein solcher Naturschauspiel genau zu planen. Es ist also möglich\, dass sich die Termine noch etwas verschieben werden. Je nach dem\, wann die Hirsche mit Ihrer Brunft beginnen. Sie werden über Änderungen informiert.
URL:https://www.landesforsten.de/event/hirschbrunft-im-wildpark-neuhaus-2/2025-09-24/
LOCATION:Wildpark Neuhaus\, Wildpark 1\, Holzminden\, Niedersachsen\, 37603\, Deutschland
CATEGORIES:Wildpark Neuhaus,WildparkHaus
ATTACH;FMTTYPE=image/jpeg:https://www.landesforsten.de/wp-content/uploads/2023/09/2011-09-15-um-16-05-30-scaled.jpg
ORGANIZER;CN="Wildpark Neuhaus":MAILTO:wildpark-neuhaus@nfa-neuhaus.niedersachsen.de
END:VEVENT
BEGIN:VEVENT
DTSTART;TZID=Europe/Berlin:20250823T070000
DTEND;TZID=Europe/Berlin:20250823T190000
DTSTAMP:20260421T111601
CREATED:20240205T145132Z
LAST-MODIFIED:20250113T131022Z
UID:97763-1755932400-1755975600@www.landesforsten.de
SUMMARY:Einlass für Frühaufsteher im Wildpark Neuhaus
DESCRIPTION:(Neuhaus) Erleben Sie das Erwachen der Tiere und der Natur. Fotografieren bei schönstem Licht\, Genießen und Entspannen.\nAn vier besonderen Tagen im Jahr kann man die Vorzüge der Morgenstunden auskosten. Das Erwachen der Natur und der Tiere miterleben und das schöne Morgenlicht für tolle Fotos nutzen. \nUm 7:00 Uhr ist der Einlass in den Wildpark möglich. \nBitte melden Sie sich hierzu bis spätestens 17 Uhr des Vortages unter +49 (0) 5536 – 9609 – 980 an. Treffpunkt ist an der Kasse/Besuchereingang des Wildparks. \nDie Kosten betragen 1\,50€ Aufpreis zu dem normalen Eintritt. \nTermine: 05.04. / 14.06. /  23.08. / 04.10. \nWeitere Informationen zu Öffnungszeiten und Preisen finden Sie auf unserer Internetseite.
URL:https://www.landesforsten.de/event/einlass-fuer-fruehaufsteher-im-wildpark-neuhaus/2025-08-23/
LOCATION:Wildpark Neuhaus\, Wildpark 1\, Holzminden\, Niedersachsen\, 37603\, Deutschland
CATEGORIES:Wildpark Neuhaus,WildparkHaus
ATTACH;FMTTYPE=image/jpeg:https://www.landesforsten.de/wp-content/uploads/2020/03/2009-09-24-um-18-39-53.jpg
ORGANIZER;CN="Wildpark Neuhaus":MAILTO:wildpark-neuhaus@nfa-neuhaus.niedersachsen.de
END:VEVENT
BEGIN:VEVENT
DTSTART;VALUE=DATE:20250720
DTEND;VALUE=DATE:20250721
DTSTAMP:20260421T111601
CREATED:20240319T081755Z
LAST-MODIFIED:20250113T135349Z
UID:97755-1752969600-1753055999@www.landesforsten.de
SUMMARY:Erlebnisvortrag Falknerei
DESCRIPTION:Wecher Schnabel frisst was\, wer brütet wie und noch viele weitere spannende Themen\n(Neuhaus im Solling) Interessantes rund ums Thema Vögel gibt es an folgenden Sonntagen nach dem Flugprogramm\, jeweils mittags und nachmittags\, zu lauschen. Die Falkner halten spannende Vorträge zu verschiedenen Themen rund um die Vogelwelt. Hier gehts es nicht nur um die Greifvögel. Je nach Wetter und Inhalt finden die Vorträge in der Falknerei oder in der Schutzhütter hinter der Falknerei statt und dauern ungefähr eine halbe Stunde. \nWie jedes normale Flugprogramm sind diese Veranstaltungen für jede Altersklasse geeignet und werden je nach Teilnehmern entsprechend altersgerecht moderiert. \nNeben dem normalen Eintritt in den Wildpark fallen hierfür keine zusätzlichen Kosten an. \nTermine: 06.04.\, 18.05.\, 22.06.\, 20.07.\, 17.08.\, 21.09.\, 19.10. \nWeitere Informationen zu den Themen finden Sie auf der Seite der Falknerei https://www.falknerei-wildpark-neuhaus.de/
URL:https://www.landesforsten.de/event/2024-06-23/2025-07-20/
LOCATION:Wildpark Neuhaus\, Wildpark 1\, Holzminden\, Niedersachsen\, 37603\, Deutschland
CATEGORIES:Wildpark Neuhaus,WildparkHaus
ATTACH;FMTTYPE=image/jpeg:https://www.landesforsten.de/wp-content/uploads/2020/03/dscn2899.jpg
ORGANIZER;CN="Falknerei Wildpark Neuhaus":MAILTO:falknerei-wildpark-neuhaus@menne-ks.de
END:VEVENT
BEGIN:VEVENT
DTSTART;TZID=Europe/Berlin:20250614T070000
DTEND;TZID=Europe/Berlin:20250614T190000
DTSTAMP:20260421T111601
CREATED:20240205T145132Z
LAST-MODIFIED:20250113T131022Z
UID:97762-1749884400-1749927600@www.landesforsten.de
SUMMARY:Einlass für Frühaufsteher im Wildpark Neuhaus
DESCRIPTION:(Neuhaus) Erleben Sie das Erwachen der Tiere und der Natur. Fotografieren bei schönstem Licht\, Genießen und Entspannen.\nAn vier besonderen Tagen im Jahr kann man die Vorzüge der Morgenstunden auskosten. Das Erwachen der Natur und der Tiere miterleben und das schöne Morgenlicht für tolle Fotos nutzen. \nUm 7:00 Uhr ist der Einlass in den Wildpark möglich. \nBitte melden Sie sich hierzu bis spätestens 17 Uhr des Vortages unter +49 (0) 5536 – 9609 – 980 an. Treffpunkt ist an der Kasse/Besuchereingang des Wildparks. \nDie Kosten betragen 1\,50€ Aufpreis zu dem normalen Eintritt. \nTermine: 05.04. / 14.06. /  23.08. / 04.10. \nWeitere Informationen zu Öffnungszeiten und Preisen finden Sie auf unserer Internetseite.
URL:https://www.landesforsten.de/event/einlass-fuer-fruehaufsteher-im-wildpark-neuhaus/2025-06-14/
LOCATION:Wildpark Neuhaus\, Wildpark 1\, Holzminden\, Niedersachsen\, 37603\, Deutschland
CATEGORIES:Wildpark Neuhaus,WildparkHaus
ATTACH;FMTTYPE=image/jpeg:https://www.landesforsten.de/wp-content/uploads/2020/03/2009-09-24-um-18-39-53.jpg
ORGANIZER;CN="Wildpark Neuhaus":MAILTO:wildpark-neuhaus@nfa-neuhaus.niedersachsen.de
END:VEVENT
BEGIN:VEVENT
DTSTART;VALUE=DATE:20250406
DTEND;VALUE=DATE:20250407
DTSTAMP:20260421T111601
CREATED:20240319T081755Z
LAST-MODIFIED:20250113T135348Z
UID:79900-1743897600-1743983999@www.landesforsten.de
SUMMARY:Erlebnisvortrag Falknerei
DESCRIPTION:Wecher Schnabel frisst was\, wer brütet wie und noch viele weitere spannende Themen\n(Neuhaus im Solling) Interessantes rund ums Thema Vögel gibt es an folgenden Sonntagen nach dem Flugprogramm\, jeweils mittags und nachmittags\, zu lauschen. Die Falkner halten spannende Vorträge zu verschiedenen Themen rund um die Vogelwelt. Hier gehts es nicht nur um die Greifvögel. Je nach Wetter und Inhalt finden die Vorträge in der Falknerei oder in der Schutzhütter hinter der Falknerei statt und dauern ungefähr eine halbe Stunde. \nWie jedes normale Flugprogramm sind diese Veranstaltungen für jede Altersklasse geeignet und werden je nach Teilnehmern entsprechend altersgerecht moderiert. \nNeben dem normalen Eintritt in den Wildpark fallen hierfür keine zusätzlichen Kosten an. \nTermine: 06.04.\, 18.05.\, 22.06.\, 20.07.\, 17.08.\, 21.09.\, 19.10. \nWeitere Informationen zu den Themen finden Sie auf der Seite der Falknerei https://www.falknerei-wildpark-neuhaus.de/
URL:https://www.landesforsten.de/event/2024-06-23/2025-04-06/
LOCATION:Wildpark Neuhaus\, Wildpark 1\, Holzminden\, Niedersachsen\, 37603\, Deutschland
CATEGORIES:Wildpark Neuhaus,WildparkHaus
ATTACH;FMTTYPE=image/jpeg:https://www.landesforsten.de/wp-content/uploads/2020/03/dscn2899.jpg
ORGANIZER;CN="Falknerei Wildpark Neuhaus":MAILTO:falknerei-wildpark-neuhaus@menne-ks.de
END:VEVENT
BEGIN:VEVENT
DTSTART;TZID=Europe/Berlin:20250405T070000
DTEND;TZID=Europe/Berlin:20250405T190000
DTSTAMP:20260421T111601
CREATED:20240205T145132Z
LAST-MODIFIED:20250113T131022Z
UID:78729-1743836400-1743879600@www.landesforsten.de
SUMMARY:Einlass für Frühaufsteher im Wildpark Neuhaus
DESCRIPTION:(Neuhaus) Erleben Sie das Erwachen der Tiere und der Natur. Fotografieren bei schönstem Licht\, Genießen und Entspannen.\nAn vier besonderen Tagen im Jahr kann man die Vorzüge der Morgenstunden auskosten. Das Erwachen der Natur und der Tiere miterleben und das schöne Morgenlicht für tolle Fotos nutzen. \nUm 7:00 Uhr ist der Einlass in den Wildpark möglich. \nBitte melden Sie sich hierzu bis spätestens 17 Uhr des Vortages unter +49 (0) 5536 – 9609 – 980 an. Treffpunkt ist an der Kasse/Besuchereingang des Wildparks. \nDie Kosten betragen 1\,50€ Aufpreis zu dem normalen Eintritt. \nTermine: 05.04. / 14.06. /  23.08. / 04.10. \nWeitere Informationen zu Öffnungszeiten und Preisen finden Sie auf unserer Internetseite.
URL:https://www.landesforsten.de/event/einlass-fuer-fruehaufsteher-im-wildpark-neuhaus/2025-04-05/
LOCATION:Wildpark Neuhaus\, Wildpark 1\, Holzminden\, Niedersachsen\, 37603\, Deutschland
CATEGORIES:Wildpark Neuhaus,WildparkHaus
ATTACH;FMTTYPE=image/jpeg:https://www.landesforsten.de/wp-content/uploads/2020/03/2009-09-24-um-18-39-53.jpg
ORGANIZER;CN="Wildpark Neuhaus":MAILTO:wildpark-neuhaus@nfa-neuhaus.niedersachsen.de
END:VEVENT
END:VCALENDAR